Workbook
Name BF: 'Kalender-Kehrwoche'!$H$4
Name ErsterAdvent: Temp3!$A$4
Name Farbe: Temp1!$C$2:$C$54
Name FarbeZwei: Temp1!$D$2:$D$54
Name FT: Feiertage!$C$2:$C$21
Name JahrAktuell: Temp3!$A$2
Name Kalender: 'Kalender-Kehrwoche'!$B$12:$AW$42
Name Objekt: 'Kalender-Kehrwoche'!$B$7
Name OS: 'Kalender-Kehrwoche'!$C$4
Name Ostersonntag: Temp3!$A$3
Name Pers: 'Kalender-Kehrwoche'!$H$3
Name Person: Temp1!$B$2:$B$54
Name TextNachTagImJahr: Temp2!$H$2:$H$367
Name Ueberschrift: 'Kalender-Kehrwoche'!$P$4
Name WT: 'Kalender-Kehrwoche'!$C$3
Name WTAuswahl: Temp1!$G$1:$G$7

Sheet Hinweise
A1: Der Reinigungsplan / Kehrwochenkalender
A2: Die Idee einen solchen Kalender zu erstellen, kam mir, nachdem ich Stunden mit "gemalten" Kalendern verbracht habe. Im Internet war ebenfalls nichts passendes zu finden. So entwickelten wir, Thomann, Matys, in mehreren Schritten diese Version. (aktuell 6 Schritte) Herr Matys hat noch mehr technisches Wissen, um die Ideen von Herrn Thomann umzusetzen.
A4: Kurze Beschreibung
A6: Register Texte
A7: Auf dem Register "Texte" können Sie den "Kalendertitel" (Reinigungskalender, Kehrwoche, Reinigungsplan) als auch den "Objekttitel" (Name der WEG) hinterlegen. Den Namen der Hausverwaltung (links über dem Kalender) und noch ein paar Anmerkungen (rechts über den Kalender) sind die beiden nächsten Eintragungen. Abrunden können Sie das Ganze mit je einem Text unter dem Kalender. Der rechte Text wird dabei in roter Farbe angezeigt. Sie können dies auch leer lassen.
A9: Register Nutzer
A10: Auf der Seite "Nutzer" listen Sie die Namen der Nutzer (Eigentümer, Mieter...) auf. Es ist mal Platz für 100 Namen. Stellen Sie vor jedem Nutzer die passende Objektnummer. In der Regel "1". Sie können die Nutzer in der Reihenfolge ihrer Bewohnerliste erfassen. Mit 'Startet' können Sie den Nutzer markieren, der im neuen Jahr als erster die Kehrwoche hat. D.h. einmal erstellt, brauchen Sie im Folgejahr nur noch "startet" neu positionieren, und der neue Kalender ist fertig. Mit Semikolon können Sie die Eingabe auf mehrere Zeilen verteilen. Hinter der Spalte "startet" können Sie auch eine Farbe hinterlegen. Es sind max. 9 verschiedene Farben möglich. (sonst geht die Lesbarkeit verloren) Geben sie keine Nummer ein, Feld ist komplett leer, dann wird auch keine Farbe verwendet.
A12: Register Kalender-Kehrwoche
A13: Auf dem Register "Kalender-Kehrwoche" wählen Sie das Objekt, das Jahr der Kehrwoche aus. Den den Start der "Kehrwoche" können Sie auf jeden beliebigen Wochentag legen. Beim Objekt ist es in der Regel der Wert "1", so wie Sie es bei den Nutzern hinterlegt haben. Mehrere Objekte machen nur Sinn, wenn es eine Hausmeister-Übersicht sein soll, oder wenn ein Abrechnungsobjekt über mehrere Häuser verfügt.
A15: Gerhard Thomann und Ingolf Matys wünschen viel Erfolg.
A16: Sollte ihnen der Kalender sehr gut gefallen, und ihnen eine große Arbeitserleichterung bescheren, dann freuen wir uns über eine Zuwendung auf: Sparkassen Hochschwarzwald IBAN: DE53 6805 1004 0004 0430 06 BIC: SOLADES1HSW Verwendungszweck: "Kehrwochenkalender"
A18: Und nun Viel Erfolg
... A25: https://www.imatys.de/

Sheet Texte
A1: Der Reinigungsplan / Kehrwochenkalender
A2: Die ersten Exemplare waren noch etwas "trocken". Beim sichten einiger Exemplare war klar, dass der Kalender nicht nur aus dem Kalender, sondern auch aus ein paar begleitenden Worten besteht. Dieser Kalender kann die Hausordnung nicht ersetzen.
A4: Texte für den Kalender
A6: Kalendertitel
A7: Reinigungsplan
A9: Objekttitel
A10: WEG Nr. 3
A12: Die Hausverwaltung
A13: Hausverwaltung Thomann 79254 Oberried
A15: Text über dem Kalender
A16: Winterdienst, Gehweg- und Parkplatzreinigung. Die Reinigung hat 1x wöchentlich zu erfolgen, bei Bedarf öfter. Der Winterdienst ist entsprechend der Polizeiverordnung auszuführen.
A18: Text unter dem Kalender links schwarz
... A30: https://www.imatys.de/

Sheet Nutzer
A1: Objekt | B1: Person | C1: Startet | D1: Farbe (1-9)
A2: 1 | B2: WHG-01; Thomann; Gerhard | D2: 1
A3: 1 | B3: Ingolf; Matys; Tel.: 0761; 881 4402 | C3: x | D3: 2
A4: 1 | B4: Wohnung 3; Dritter; mal;sehen | D4: 3
D5: 4
D6: 5
D7: 6
D8: 7
D9: 8
D10: 9

Sheet Feiertage
A1: Auswahl Feiertag | B1: Feiertag | C1: Datum
A2: x | B2: =Tabelle13[[#This Row],[Bezeichnung]] -> Neujahr | C2: =IF(A2="x",Tabelle13[[#This Row],[Datum]],0) -> 44562
A3: x | B3: =Tabelle13[[#This Row],[Bezeichnung]] -> Heilige Drei Könige | C3: =IF(A3="x",Tabelle13[[#This Row],[Datum]],0) -> 44567
B4: =Tabelle13[[#This Row],[Bezeichnung]] -> Internationaler Frauentag | C4: =IF(A4="x",Tabelle13[[#This Row],[Datum]],0) -> 0
A5: x | B5: =Tabelle13[[#This Row],[Bezeichnung]] -> Karfreitag | C5: =IF(A5="x",Tabelle13[[#This Row],[Datum]],0) -> 44666
B6: =Tabelle13[[#This Row],[Bezeichnung]] -> Ostersonntag | C6: =IF(A6="x",Tabelle13[[#This Row],[Datum]],0) -> 0
A7: x | B7: =Tabelle13[[#This Row],[Bezeichnung]] -> Ostermontag | C7: =IF(A7="x",Tabelle13[[#This Row],[Datum]],0) -> 44669
A8: x | B8: =Tabelle13[[#This Row],[Bezeichnung]] -> Tag der Arbeit | C8: =IF(A8="x",Tabelle13[[#This Row],[Datum]],0) -> 44682
A9: x | B9: =Tabelle13[[#This Row],[Bezeichnung]] -> Christi Himmelfahrt | C9: =IF(A9="x",Tabelle13[[#This Row],[Datum]],0) -> 44707
B10: =Tabelle13[[#This Row],[Bezeichnung]] -> Pfingstsonntag | C10: =IF(A10="x",Tabelle13[[#This Row],[Datum]],0) -> 0
A11: x | B11: =Tabelle13[[#This Row],[Bezeichnung]] -> Pfingstmontag | C11: =IF(A11="x",Tabelle13[[#This Row],[Datum]],0) -> 44718
A12: x | B12: =Tabelle13[[#This Row],[Bezeichnung]] -> Fronleichnam | C12: =IF(A12="x",Tabelle13[[#This Row],[Datum]],0) -> 44728
B13: =Tabelle13[[#This Row],[Bezeichnung]] -> Augsburger Friedensfest | C13: =IF(A13="x",Tabelle13[[#This Row],[Datum]],0) -> 0
B14: =Tabelle13[[#This Row],[Bezeichnung]] -> Mariä Himmelfahrt | C14: =IF(A14="x",Tabelle13[[#This Row],[Datum]],0) -> 0
B15: =Tabelle13[[#This Row],[Bezeichnung]] -> Weltkindertag | C15: =IF(A15="x",Tabelle13[[#This Row],[Datum]],0) -> 0
A16: x | B16: =Tabelle13[[#This Row],[Bezeichnung]] -> Tag der Deutschen Einheit | C16: =IF(A16="x",Tabelle13[[#This Row],[Datum]],0) -> 44837
B17: =Tabelle13[[#This Row],[Bezeichnung]] -> Reformationstag | C17: =IF(A17="x",Tabelle13[[#This Row],[Datum]],0) -> 0
A18: x | B18: =Tabelle13[[#This Row],[Bezeichnung]] -> Allerheiligen | C18: =IF(A18="x",Tabelle13[[#This Row],[Datum]],0) -> 44866
B19: =Tabelle13[[#This Row],[Bezeichnung]] -> Buß- und Bettag | C19: =IF(A19="x",Tabelle13[[#This Row],[Datum]],0) -> 0
A20: x | B20: =Tabelle13[[#This Row],[Bezeichnung]] -> 1. Weihnachtstag | C20: =IF(A20="x",Tabelle13[[#This Row],[Datum]],0) -> 44920
A21: x | B21: =Tabelle13[[#This Row],[Bezeichnung]] -> 2. Weihnachtstag | C21: =IF(A21="x",Tabelle13[[#This Row],[Datum]],0) -> 44921

Sheet Kalender-Kehrwoche
B1: 1 | C1: =B1 -> 1 | D1: =C1 -> 1 | E1: =D1 -> 1 | F1: =B1+1 -> 2 | G1: =F1 -> 2 | H1: =G1 -> 2 | I1: =H1 -> 2 | J1: =F1+1 -> 3 | K1: =J1 -> 3 | L1: =K1 -> 3 | M1: =L1 -> 3 | N1: =J1+1 -> 4 | O1: =N1 -> 4 | P1: =O1 -> 4 | Q1: =P1 -> 4 | R1: =N1+1 -> 5 | S1: =R1 -> 5 | T1: =S1 -> 5 | U1: =T1 -> 5 | V1: =R1+1 -> 6 | W1: =V1 -> 6 | X1: =W1 -> 6 | Y1: =X1 -> 6 | Z1: =V1+1 -> 7 | AA1: =Z1 -> 7 | AB1: =AA1 -> 7 | AC1: =AB1 -> 7 | AD1: =Z1+1 -> 8 | AE1: =AD1 -> 8 | AF1: =AE1 -> 8 | AG1: =AF1 -> 8 | AH1: =AD1+1 -> 9 | AI1: =AH1 -> 9 | AJ1: =AI1 -> 9 | AK1: =AJ1 -> 9 | AL1: =AH1+1 -> 10 | AM1: =AL1 -> 10 | AN1: =AM1 -> 10 | AO1: =AN1 -> 10 | AP1: =AL1+1 -> 11 | AQ1: =AP1 -> 11 | AR1: =AQ1 -> 11 | AS1: =AR1 -> 11 | AT1: =AP1+1 -> 12 | AU1: =AT1 -> 12 | AV1: =AU1 -> 12 | AW1: =AV1 -> 12
B2: 1 | C2: =B2 -> 1 | F2: =B2+1 -> 2 | G2: =F2 -> 2 | J2: =F2+1 -> 3 | K2: =J2 -> 3 | N2: =J2+1 -> 4 | O2: =N2 -> 4 | R2: =N2+1 -> 5 | S2: =R2 -> 5 | V2: =R2+1 -> 6 | W2: =V2 -> 6 | Z2: =V2+1 -> 7 | AA2: =Z2 -> 7 | AD2: =Z2+1 -> 8 | AE2: =AD2 -> 8 | AH2: =AD2+1 -> 9 | AI2: =AH2 -> 9 | AL2: =AH2+1 -> 10 | AM2: =AL2 -> 10 | AP2: =AL2+1 -> 11 | AQ2: =AP2 -> 11 | AT2: =AP2+1 -> 12 | AU2: =AT2 -> 12
B3: WT | C3: =MATCH(F7,WTAuswahl,0) -> 6 | G3: AZ | H3: =Temp1!C1 -> 3
B4: OS | C4: =MOD(WEEKDAY($B$12,2)-WT+7,7)-B12 -> -44562 | G4: BF | H4: =IF(L4,Pers<7,FALSE) -> FALSE | L4: FALSE
B6: Obj | D6: Jahr | F6: Start der Kehrwoche
B7: 1 | D7: 2022 | F7: Samstag
B9: =Texte!A7 & " " & $D$7 -> Reinigungsplan 2022 | J9: =Texte!A10 -> WEG Nr. 3 | Z9: =B9 -> Reinigungsplan 2022 | AH9: =J9 -> WEG Nr. 3
B10: =Texte!A13 -> Hausverwaltung Thomann 79254 Oberried | J10: =Texte!A16 -> Winterdienst, Gehweg- und Parkplatzreinigung. Die Reinigung hat 1x wöchentlich zu erfolgen, bei Bedarf öfter. Der Winterdienst ist entsprechend der Polizeiverordnung auszuführen. | Z10: =B10 -> Hausverwaltung Thomann 79254 Oberried | AH10: =J10 -> Winterdienst, Gehweg- und Parkplatzreinigung. Die Reinigung hat 1x wöchentlich zu erfolgen, bei Bedarf öfter. Der Winterdienst ist entsprechend der Polizeiverordnung auszuführen.
B11: =B12 -> 44562 | F11: =F12 -> 44593 | J11: =J12 -> 44621 | N11: =N12 -> 44652 | R11: =R12 -> 44682 | V11: =V12 -> 44713 | Z11: =Z12 -> 44743 | AD11: =AD12 -> 44774 | AH11: =AH12 -> 44805 | AL11: =AL12 -> 44835 | AP11: =AP12 -> 44866 | AT11: =AT12 -> 44896
B12: =DATE($D$7,B1,1) -> 44562 | C12: =TEXT(B12,"TTT") -> Sa | D12: {=IF(E12<>"",INDEX(TextNachTagImJahr,B12-DATE(N($D$7),1,0),1)," ")} -> Ingolf | E12: =IF(N(B12)=0,"",QUOTIENT(OS+B12,7)+1) -> 1 | F12: =DATE($D$7,F1,1) -> 44593 | G12: =TEXT(F12,"TTT") -> Di | H12: {=IF(I12<>"",INDEX(TextNachTagImJahr,F12-DATE(N($D$7),1,0),1)," ")} -> sehen | I12: =IF(N(F12)=0,"",QUOTIENT(OS+F12,7)+1) -> 5 | J12: =DATE($D$7,J1,1) -> 44621 | K12: =TEXT(J12,"TTT") -> Di | L12: {=IF(M12<>"",INDEX(TextNachTagImJahr,J12-DATE(N($D$7),1,0),1)," ")} | M12: =IF(N(J12)=0,"",QUOTIENT(OS+J12,7)+1) -> 9 | N12: =DATE($D$7,N1,1) -> 44652 | O12: =TEXT(N12,"TTT") -> Fr | P12: {=IF(Q12<>"",INDEX(TextNachTagImJahr,N12-DATE(N($D$7),1,0),1)," ")} | Q12: =IF(N(N12)=0,"",QUOTIENT(OS+N12,7)+1) -> 13 | R12: =DATE($D$7,R1,1) -> 44682 | S12: =TEXT(R12,"TTT") -> So | T12: {=IF(U12<>"",INDEX(TextNachTagImJahr,R12-DATE(N($D$7),1,0),1)," ")} -> Thomann | U12: =IF(N(R12)=0,"",QUOTIENT(OS+R12,7)+1) -> 18 | V12: =DATE($D$7,V1,1) -> 44713 | W12: =TEXT(V12,"TTT") -> Mi | X12: {=IF(Y12<>"",INDEX(TextNachTagImJahr,V12-DATE(N($D$7),1,0),1)," ")} | Y12: =IF(N(V12)=0,"",QUOTIENT(OS+V12,7)+1) -> 22 | Z12: =DATE($D$7,Z1,1) -> 44743 | AA12: =TEXT(Z12,"TTT") -> Fr | AB12: {=IF(AC12<>"",INDEX(TextNachTagImJahr,Z12-DATE(N($D$7),1,0),1)," ")} | AC12: =IF(N(Z12)=0,"",QUOTIENT(OS+Z12,7)+1) -> 26 | AD12: =DATE($D$7,AD1,1) -> 44774 | AE12: =TEXT(AD12,"TTT") -> Mo | AF12: {=IF(AG12<>"",INDEX(TextNachTagImJahr,AD12-DATE(N($D$7),1,0),1)," ")} -> Tel.: 0761 | AG12: =IF(N(AD12)=0,"",QUOTIENT(OS+AD12,7)+1) -> 31 | AH12: =DATE($D$7,AH1,1) -> 44805 | AI12: =TEXT(AH12,"TTT") -> Do | AJ12: {=IF(AK12<>"",INDEX(TextNachTagImJahr,AH12-DATE(N($D$7),1,0),1)," ")} | AK12: =IF(N(AH12)=0,"",QUOTIENT(OS+AH12,7)+1) -> 35 | AL12: =DATE($D$7,AL1,1) -> 44835 | AM12: =TEXT(AL12,"TTT") -> Sa | AN12: {=IF(AO12<>"",INDEX(TextNachTagImJahr,AL12-DATE(N($D$7),1,0),1)," ")} -> Ingolf | AO12: =IF(N(AL12)=0,"",QUOTIENT(OS+AL12,7)+1) -> 40 | AP12: =DATE($D$7,AP1,1) -> 44866 | AQ12: =TEXT(AP12,"TTT") -> Di | AR12: {=IF(AS12<>"",INDEX(TextNachTagImJahr,AP12-DATE(N($D$7),1,0),1)," ")} -> sehen | AS12: =IF(N(AP12)=0,"",QUOTIENT(OS+AP12,7)+1) -> 44 | AT12: =DATE($D$7,AT1,1) -> 44896 | AU12: =TEXT(AT12,"TTT") -> Do | AV12: {=IF(AW12<>"",INDEX(TextNachTagImJahr,AT12-DATE(N($D$7),1,0),1)," ")} | AW12: =IF(N(AT12)=0,"",QUOTIENT(OS+AT12,7)+1) -> 48
B13: =IF(N(B12)=0,"",IF(MONTH(B12+1)=B$1,B12+1,"")) -> 44563 | C13: =TEXT(B13,"TTT") -> So | D13: {=IF(E13<>"",INDEX(TextNachTagImJahr,B13-DATE(N($D$7),1,0),1)," ")} -> Matys | E13: =IF(N(B13)=0,"",QUOTIENT(OS+B13,7)+1) -> 1 | F13: =IF(N(F12)=0,"",IF(MONTH(F12+1)=F$1,F12+1,"")) -> 44594 | G13: =TEXT(F13,"TTT") -> Mi | H13: {=IF(I13<>"",INDEX(TextNachTagImJahr,F13-DATE(N($D$7),1,0),1)," ")} | I13: =IF(N(F13)=0,"",QUOTIENT(OS+F13,7)+1) -> 5 | J13: =IF(N(J12)=0,"",IF(MONTH(J12+1)=J$1,J12+1,"")) -> 44622 | K13: =TEXT(J13,"TTT") -> Mi | L13: {=IF(M13<>"",INDEX(TextNachTagImJahr,J13-DATE(N($D$7),1,0),1)," ")} | M13: =IF(N(J13)=0,"",QUOTIENT(OS+J13,7)+1) -> 9 | N13: =IF(N(N12)=0,"",IF(MONTH(N12+1)=N$1,N12+1,"")) -> 44653 | O13: =TEXT(N13,"TTT") -> Sa | P13: {=IF(Q13<>"",INDEX(TextNachTagImJahr,N13-DATE(N($D$7),1,0),1)," ")} -> Wohnung 3 | Q13: =IF(N(N13)=0,"",QUOTIENT(OS+N13,7)+1) -> 14 | R13: =IF(N(R12)=0,"",IF(MONTH(R12+1)=R$1,R12+1,"")) -> 44683 | S13: =TEXT(R13,"TTT") -> Mo | T13: {=IF(U13<>"",INDEX(TextNachTagImJahr,R13-DATE(N($D$7),1,0),1)," ")} -> Gerhard | U13: =IF(N(R13)=0,"",QUOTIENT(OS+R13,7)+1) -> 18 | V13: =IF(N(V12)=0,"",IF(MONTH(V12+1)=V$1,V12+1,"")) -> 44714 | W13: =TEXT(V13,"TTT") -> Do | X13: {=IF(Y13<>"",INDEX(TextNachTagImJahr,V13-DATE(N($D$7),1,0),1)," ")} | Y13: =IF(N(V13)=0,"",QUOTIENT(OS+V13,7)+1) -> 22 | Z13: =IF(N(Z12)=0,"",IF(MONTH(Z12+1)=Z$1,Z12+1,"")) -> 44744 | AA13: =TEXT(Z13,"TTT") -> Sa | AB13: {=IF(AC13<>"",INDEX(TextNachTagImJahr,Z13-DATE(N($D$7),1,0),1)," ")} -> WHG-01 | AC13: =IF(N(Z13)=0,"",QUOTIENT(OS+Z13,7)+1) -> 27 | AD13: =IF(N(AD12)=0,"",IF(MONTH(AD12+1)=AD$1,AD12+1,"")) -> 44775 | AE13: =TEXT(AD13,"TTT") -> Di | AF13: {=IF(AG13<>"",INDEX(TextNachTagImJahr,AD13-DATE(N($D$7),1,0),1)," ")} -> 881 4402 | AG13: =IF(N(AD13)=0,"",QUOTIENT(OS+AD13,7)+1) -> 31 | AH13: =IF(N(AH12)=0,"",IF(MONTH(AH12+1)=AH$1,AH12+1,"")) -> 44806 | AI13: =TEXT(AH13,"TTT") -> Fr | AJ13: {=IF(AK13<>"",INDEX(TextNachTagImJahr,AH13-DATE(N($D$7),1,0),1)," ")} | AK13: =IF(N(AH13)=0,"",QUOTIENT(OS+AH13,7)+1) -> 35 | AL13: =IF(N(AL12)=0,"",IF(MONTH(AL12+1)=AL$1,AL12+1,"")) -> 44836 | AM13: =TEXT(AL13,"TTT") -> So | AN13: {=IF(AO13<>"",INDEX(TextNachTagImJahr,AL13-DATE(N($D$7),1,0),1)," ")} -> Matys | AO13: =IF(N(AL13)=0,"",QUOTIENT(OS+AL13,7)+1) -> 40 | AP13: =IF(N(AP12)=0,"",IF(MONTH(AP12+1)=AP$1,AP12+1,"")) -> 44867 | AQ13: =TEXT(AP13,"TTT") -> Mi | AR13: {=IF(AS13<>"",INDEX(TextNachTagImJahr,AP13-DATE(N($D$7),1,0),1)," ")} | AS13: =IF(N(AP13)=0,"",QUOTIENT(OS+AP13,7)+1) -> 44 | AT13: =IF(N(AT12)=0,"",IF(MONTH(AT12+1)=AT$1,AT12+1,"")) -> 44897 | AU13: =TEXT(AT13,"TTT") -> Fr | AV13: {=IF(AW13<>"",INDEX(TextNachTagImJahr,AT13-DATE(N($D$7),1,0),1)," ")} | AW13: =IF(N(AT13)=0,"",QUOTIENT(OS+AT13,7)+1) -> 48
B14: =IF(N(B13)=0,"",IF(MONTH(B13+1)=B$1,B13+1,"")) -> 44564 | C14: =TEXT(B14,"TTT") -> Mo | D14: {=IF(E14<>"",INDEX(TextNachTagImJahr,B14-DATE(N($D$7),1,0),1)," ")} -> Tel.: 0761 | E14: =IF(N(B14)=0,"",QUOTIENT(OS+B14,7)+1) -> 1 | F14: =IF(N(F13)=0,"",IF(MONTH(F13+1)=F$1,F13+1,"")) -> 44595 | G14: =TEXT(F14,"TTT") -> Do | H14: {=IF(I14<>"",INDEX(TextNachTagImJahr,F14-DATE(N($D$7),1,0),1)," ")} | I14: =IF(N(F14)=0,"",QUOTIENT(OS+F14,7)+1) -> 5 | J14: =IF(N(J13)=0,"",IF(MONTH(J13+1)=J$1,J13+1,"")) -> 44623 | K14: =TEXT(J14,"TTT") -> Do | L14: {=IF(M14<>"",INDEX(TextNachTagImJahr,J14-DATE(N($D$7),1,0),1)," ")} | M14: =IF(N(J14)=0,"",QUOTIENT(OS+J14,7)+1) -> 9 | N14: =IF(N(N13)=0,"",IF(MONTH(N13+1)=N$1,N13+1,"")) -> 44654 | O14: =TEXT(N14,"TTT") -> So | P14: {=IF(Q14<>"",INDEX(TextNachTagImJahr,N14-DATE(N($D$7),1,0),1)," ")} -> Dritter | Q14: =IF(N(N14)=0,"",QUOTIENT(OS+N14,7)+1) -> 14 | R14: =IF(N(R13)=0,"",IF(MONTH(R13+1)=R$1,R13+1,"")) -> 44684 | S14: =TEXT(R14,"TTT") -> Di | T14: {=IF(U14<>"",INDEX(TextNachTagImJahr,R14-DATE(N($D$7),1,0),1)," ")} | U14: =IF(N(R14)=0,"",QUOTIENT(OS+R14,7)+1) -> 18 | V14: =IF(N(V13)=0,"",IF(MONTH(V13+1)=V$1,V13+1,"")) -> 44715 | W14: =TEXT(V14,"TTT") -> Fr | X14: {=IF(Y14<>"",INDEX(TextNachTagImJahr,V14-DATE(N($D$7),1,0),1)," ")} | Y14: =IF(N(V14)=0,"",QUOTIENT(OS+V14,7)+1) -> 22 | Z14: =IF(N(Z13)=0,"",IF(MONTH(Z13+1)=Z$1,Z13+1,"")) -> 44745 | AA14: =TEXT(Z14,"TTT") -> So | AB14: {=IF(AC14<>"",INDEX(TextNachTagImJahr,Z14-DATE(N($D$7),1,0),1)," ")} -> Thomann | AC14: =IF(N(Z14)=0,"",QUOTIENT(OS+Z14,7)+1) -> 27 | AD14: =IF(N(AD13)=0,"",IF(MONTH(AD13+1)=AD$1,AD13+1,"")) -> 44776 | AE14: =TEXT(AD14,"TTT") -> Mi | AF14: {=IF(AG14<>"",INDEX(TextNachTagImJahr,AD14-DATE(N($D$7),1,0),1)," ")} | AG14: =IF(N(AD14)=0,"",QUOTIENT(OS+AD14,7)+1) -> 31 | AH14: =IF(N(AH13)=0,"",IF(MONTH(AH13+1)=AH$1,AH13+1,"")) -> 44807 | AI14: =TEXT(AH14,"TTT") -> Sa | AJ14: {=IF(AK14<>"",INDEX(TextNachTagImJahr,AH14-DATE(N($D$7),1,0),1)," ")} -> WHG-01 | AK14: =IF(N(AH14)=0,"",QUOTIENT(OS+AH14,7)+1) -> 36 | AL14: =IF(N(AL13)=0,"",IF(MONTH(AL13+1)=AL$1,AL13+1,"")) -> 44837 | AM14: =TEXT(AL14,"TTT") -> Mo | AN14: {=IF(AO14<>"",INDEX(TextNachTagImJahr,AL14-DATE(N($D$7),1,0),1)," ")} -> Tel.: 0761 | AO14: =IF(N(AL14)=0,"",QUOTIENT(OS+AL14,7)+1) -> 40 | AP14: =IF(N(AP13)=0,"",IF(MONTH(AP13+1)=AP$1,AP13+1,"")) -> 44868 | AQ14: =TEXT(AP14,"TTT") -> Do | AR14: {=IF(AS14<>"",INDEX(TextNachTagImJahr,AP14-DATE(N($D$7),1,0),1)," ")} | AS14: =IF(N(AP14)=0,"",QUOTIENT(OS+AP14,7)+1) -> 44 | AT14: =IF(N(AT13)=0,"",IF(MONTH(AT13+1)=AT$1,AT13+1,"")) -> 44898 | AU14: =TEXT(AT14,"TTT") -> Sa | AV14: {=IF(AW14<>"",INDEX(TextNachTagImJahr,AT14-DATE(N($D$7),1,0),1)," ")} -> Ingolf | AW14: =IF(N(AT14)=0,"",QUOTIENT(OS+AT14,7)+1) -> 49
B15: =IF(N(B14)=0,"",IF(MONTH(B14+1)=B$1,B14+1,"")) -> 44565 | C15: =TEXT(B15,"TTT") -> Di | D15: {=IF(E15<>"",INDEX(TextNachTagImJahr,B15-DATE(N($D$7),1,0),1)," ")} -> 881 4402 | E15: =IF(N(B15)=0,"",QUOTIENT(OS+B15,7)+1) -> 1 | F15: =IF(N(F14)=0,"",IF(MONTH(F14+1)=F$1,F14+1,"")) -> 44596 | G15: =TEXT(F15,"TTT") -> Fr | H15: {=IF(I15<>"",INDEX(TextNachTagImJahr,F15-DATE(N($D$7),1,0),1)," ")} | I15: =IF(N(F15)=0,"",QUOTIENT(OS+F15,7)+1) -> 5 | J15: =IF(N(J14)=0,"",IF(MONTH(J14+1)=J$1,J14+1,"")) -> 44624 | K15: =TEXT(J15,"TTT") -> Fr | L15: {=IF(M15<>"",INDEX(TextNachTagImJahr,J15-DATE(N($D$7),1,0),1)," ")} | M15: =IF(N(J15)=0,"",QUOTIENT(OS+J15,7)+1) -> 9 | N15: =IF(N(N14)=0,"",IF(MONTH(N14+1)=N$1,N14+1,"")) -> 44655 | O15: =TEXT(N15,"TTT") -> Mo | P15: {=IF(Q15<>"",INDEX(TextNachTagImJahr,N15-DATE(N($D$7),1,0),1)," ")} -> mal | Q15: =IF(N(N15)=0,"",QUOTIENT(OS+N15,7)+1) -> 14 | R15: =IF(N(R14)=0,"",IF(MONTH(R14+1)=R$1,R14+1,"")) -> 44685 | S15: =TEXT(R15,"TTT") -> Mi | T15: {=IF(U15<>"",INDEX(TextNachTagImJahr,R15-DATE(N($D$7),1,0),1)," ")} | U15: =IF(N(R15)=0,"",QUOTIENT(OS+R15,7)+1) -> 18 | V15: =IF(N(V14)=0,"",IF(MONTH(V14+1)=V$1,V14+1,"")) -> 44716 | W15: =TEXT(V15,"TTT") -> Sa | X15: {=IF(Y15<>"",INDEX(TextNachTagImJahr,V15-DATE(N($D$7),1,0),1)," ")} -> Wohnung 3 | Y15: =IF(N(V15)=0,"",QUOTIENT(OS+V15,7)+1) -> 23 | Z15: =IF(N(Z14)=0,"",IF(MONTH(Z14+1)=Z$1,Z14+1,"")) -> 44746 | AA15: =TEXT(Z15,"TTT") -> Mo | AB15: {=IF(AC15<>"",INDEX(TextNachTagImJahr,Z15-DATE(N($D$7),1,0),1)," ")} -> Gerhard | AC15: =IF(N(Z15)=0,"",QUOTIENT(OS+Z15,7)+1) -> 27 | AD15: =IF(N(AD14)=0,"",IF(MONTH(AD14+1)=AD$1,AD14+1,"")) -> 44777 | AE15: =TEXT(AD15,"TTT") -> Do | AF15: {=IF(AG15<>"",INDEX(TextNachTagImJahr,AD15-DATE(N($D$7),1,0),1)," ")} | AG15: =IF(N(AD15)=0,"",QUOTIENT(OS+AD15,7)+1) -> 31 | AH15: =IF(N(AH14)=0,"",IF(MONTH(AH14+1)=AH$1,AH14+1,"")) -> 44808 | AI15: =TEXT(AH15,"TTT") -> So | AJ15: {=IF(AK15<>"",INDEX(TextNachTagImJahr,AH15-DATE(N($D$7),1,0),1)," ")} -> Thomann | AK15: =IF(N(AH15)=0,"",QUOTIENT(OS+AH15,7)+1) -> 36 | AL15: =IF(N(AL14)=0,"",IF(MONTH(AL14+1)=AL$1,AL14+1,"")) -> 44838 | AM15: =TEXT(AL15,"TTT") -> Di | AN15: {=IF(AO15<>"",INDEX(TextNachTagImJahr,AL15-DATE(N($D$7),1,0),1)," ")} -> 881 4402 | AO15: =IF(N(AL15)=0,"",QUOTIENT(OS+AL15,7)+1) -> 40 | AP15: =IF(N(AP14)=0,"",IF(MONTH(AP14+1)=AP$1,AP14+1,"")) -> 44869 | AQ15: =TEXT(AP15,"TTT") -> Fr | AR15: {=IF(AS15<>"",INDEX(TextNachTagImJahr,AP15-DATE(N($D$7),1,0),1)," ")} | AS15: =IF(N(AP15)=0,"",QUOTIENT(OS+AP15,7)+1) -> 44 | AT15: =IF(N(AT14)=0,"",IF(MONTH(AT14+1)=AT$1,AT14+1,"")) -> 44899 | AU15: =TEXT(AT15,"TTT") -> So | AV15: {=IF(AW15<>"",INDEX(TextNachTagImJahr,AT15-DATE(N($D$7),1,0),1)," ")} -> Matys | AW15: =IF(N(AT15)=0,"",QUOTIENT(OS+AT15,7)+1) -> 49
B16: =IF(N(B15)=0,"",IF(MONTH(B15+1)=B$1,B15+1,"")) -> 44566 | C16: =TEXT(B16,"TTT") -> Mi | D16: {=IF(E16<>"",INDEX(TextNachTagImJahr,B16-DATE(N($D$7),1,0),1)," ")} | E16: =IF(N(B16)=0,"",QUOTIENT(OS+B16,7)+1) -> 1 | F16: =IF(N(F15)=0,"",IF(MONTH(F15+1)=F$1,F15+1,"")) -> 44597 | G16: =TEXT(F16,"TTT") -> Sa | H16: {=IF(I16<>"",INDEX(TextNachTagImJahr,F16-DATE(N($D$7),1,0),1)," ")} -> WHG-01 | I16: =IF(N(F16)=0,"",QUOTIENT(OS+F16,7)+1) -> 6 | J16: =IF(N(J15)=0,"",IF(MONTH(J15+1)=J$1,J15+1,"")) -> 44625 | K16: =TEXT(J16,"TTT") -> Sa | L16: {=IF(M16<>"",INDEX(TextNachTagImJahr,J16-DATE(N($D$7),1,0),1)," ")} -> Ingolf | M16: =IF(N(J16)=0,"",QUOTIENT(OS+J16,7)+1) -> 10 | N16: =IF(N(N15)=0,"",IF(MONTH(N15+1)=N$1,N15+1,"")) -> 44656 | O16: =TEXT(N16,"TTT") -> Di | P16: {=IF(Q16<>"",INDEX(TextNachTagImJahr,N16-DATE(N($D$7),1,0),1)," ")} -> sehen | Q16: =IF(N(N16)=0,"",QUOTIENT(OS+N16,7)+1) -> 14 | R16: =IF(N(R15)=0,"",IF(MONTH(R15+1)=R$1,R15+1,"")) -> 44686 | S16: =TEXT(R16,"TTT") -> Do | T16: {=IF(U16<>"",INDEX(TextNachTagImJahr,R16-DATE(N($D$7),1,0),1)," ")} | U16: =IF(N(R16)=0,"",QUOTIENT(OS+R16,7)+1) -> 18 | V16: =IF(N(V15)=0,"",IF(MONTH(V15+1)=V$1,V15+1,"")) -> 44717 | W16: =TEXT(V16,"TTT") -> So | X16: {=IF(Y16<>"",INDEX(TextNachTagImJahr,V16-DATE(N($D$7),1,0),1)," ")} -> Dritter | Y16: =IF(N(V16)=0,"",QUOTIENT(OS+V16,7)+1) -> 23 | Z16: =IF(N(Z15)=0,"",IF(MONTH(Z15+1)=Z$1,Z15+1,"")) -> 44747 | AA16: =TEXT(Z16,"TTT") -> Di | AB16: {=IF(AC16<>"",INDEX(TextNachTagImJahr,Z16-DATE(N($D$7),1,0),1)," ")} | AC16: =IF(N(Z16)=0,"",QUOTIENT(OS+Z16,7)+1) -> 27 | AD16: =IF(N(AD15)=0,"",IF(MONTH(AD15+1)=AD$1,AD15+1,"")) -> 44778 | AE16: =TEXT(AD16,"TTT") -> Fr | AF16: {=IF(AG16<>"",INDEX(TextNachTagImJahr,AD16-DATE(N($D$7),1,0),1)," ")} | AG16: =IF(N(AD16)=0,"",QUOTIENT(OS+AD16,7)+1) -> 31 | AH16: =IF(N(AH15)=0,"",IF(MONTH(AH15+1)=AH$1,AH15+1,"")) -> 44809 | AI16: =TEXT(AH16,"TTT") -> Mo | AJ16: {=IF(AK16<>"",INDEX(TextNachTagImJahr,AH16-DATE(N($D$7),1,0),1)," ")} -> Gerhard | AK16: =IF(N(AH16)=0,"",QUOTIENT(OS+AH16,7)+1) -> 36 | AL16: =IF(N(AL15)=0,"",IF(MONTH(AL15+1)=AL$1,AL15+1,"")) -> 44839 | AM16: =TEXT(AL16,"TTT") -> Mi | AN16: {=IF(AO16<>"",INDEX(TextNachTagImJahr,AL16-DATE(N($D$7),1,0),1)," ")} | AO16: =IF(N(AL16)=0,"",QUOTIENT(OS+AL16,7)+1) -> 40 | AP16: =IF(N(AP15)=0,"",IF(MONTH(AP15+1)=AP$1,AP15+1,"")) -> 44870 | AQ16: =TEXT(AP16,"TTT") -> Sa | AR16: {=IF(AS16<>"",INDEX(TextNachTagImJahr,AP16-DATE(N($D$7),1,0),1)," ")} -> WHG-01 | AS16: =IF(N(AP16)=0,"",QUOTIENT(OS+AP16,7)+1) -> 45 | AT16: =IF(N(AT15)=0,"",IF(MONTH(AT15+1)=AT$1,AT15+1,"")) -> 44900 | AU16: =TEXT(AT16,"TTT") -> Mo | AV16: {=IF(AW16<>"",INDEX(TextNachTagImJahr,AT16-DATE(N($D$7),1,0),1)," ")} -> Tel.: 0761 | AW16: =IF(N(AT16)=0,"",QUOTIENT(OS+AT16,7)+1) -> 49
B17: =IF(N(B16)=0,"",IF(MONTH(B16+1)=B$1,B16+1,"")) -> 44567 | C17: =TEXT(B17,"TTT") -> Do | D17: {=IF(E17<>"",INDEX(TextNachTagImJahr,B17-DATE(N($D$7),1,0),1)," ")} | E17: =IF(N(B17)=0,"",QUOTIENT(OS+B17,7)+1) -> 1 | F17: =IF(N(F16)=0,"",IF(MONTH(F16+1)=F$1,F16+1,"")) -> 44598 | G17: =TEXT(F17,"TTT") -> So | H17: {=IF(I17<>"",INDEX(TextNachTagImJahr,F17-DATE(N($D$7),1,0),1)," ")} -> Thomann | I17: =IF(N(F17)=0,"",QUOTIENT(OS+F17,7)+1) -> 6 | J17: =IF(N(J16)=0,"",IF(MONTH(J16+1)=J$1,J16+1,"")) -> 44626 | K17: =TEXT(J17,"TTT") -> So | L17: {=IF(M17<>"",INDEX(TextNachTagImJahr,J17-DATE(N($D$7),1,0),1)," ")} -> Matys | M17: =IF(N(J17)=0,"",QUOTIENT(OS+J17,7)+1) -> 10 | N17: =IF(N(N16)=0,"",IF(MONTH(N16+1)=N$1,N16+1,"")) -> 44657 | O17: =TEXT(N17,"TTT") -> Mi | P17: {=IF(Q17<>"",INDEX(TextNachTagImJahr,N17-DATE(N($D$7),1,0),1)," ")} | Q17: =IF(N(N17)=0,"",QUOTIENT(OS+N17,7)+1) -> 14 | R17: =IF(N(R16)=0,"",IF(MONTH(R16+1)=R$1,R16+1,"")) -> 44687 | S17: =TEXT(R17,"TTT") -> Fr | T17: {=IF(U17<>"",INDEX(TextNachTagImJahr,R17-DATE(N($D$7),1,0),1)," ")} | U17: =IF(N(R17)=0,"",QUOTIENT(OS+R17,7)+1) -> 18 | V17: =IF(N(V16)=0,"",IF(MONTH(V16+1)=V$1,V16+1,"")) -> 44718 | W17: =TEXT(V17,"TTT") -> Mo | X17: {=IF(Y17<>"",INDEX(TextNachTagImJahr,V17-DATE(N($D$7),1,0),1)," ")} -> mal | Y17: =IF(N(V17)=0,"",QUOTIENT(OS+V17,7)+1) -> 23 | Z17: =IF(N(Z16)=0,"",IF(MONTH(Z16+1)=Z$1,Z16+1,"")) -> 44748 | AA17: =TEXT(Z17,"TTT") -> Mi | AB17: {=IF(AC17<>"",INDEX(TextNachTagImJahr,Z17-DATE(N($D$7),1,0),1)," ")} | AC17: =IF(N(Z17)=0,"",QUOTIENT(OS+Z17,7)+1) -> 27 | AD17: =IF(N(AD16)=0,"",IF(MONTH(AD16+1)=AD$1,AD16+1,"")) -> 44779 | AE17: =TEXT(AD17,"TTT") -> Sa | AF17: {=IF(AG17<>"",INDEX(TextNachTagImJahr,AD17-DATE(N($D$7),1,0),1)," ")} -> Wohnung 3 | AG17: =IF(N(AD17)=0,"",QUOTIENT(OS+AD17,7)+1) -> 32 | AH17: =IF(N(AH16)=0,"",IF(MONTH(AH16+1)=AH$1,AH16+1,"")) -> 44810 | AI17: =TEXT(AH17,"TTT") -> Di | AJ17: {=IF(AK17<>"",INDEX(TextNachTagImJahr,AH17-DATE(N($D$7),1,0),1)," ")} | AK17: =IF(N(AH17)=0,"",QUOTIENT(OS+AH17,7)+1) -> 36 | AL17: =IF(N(AL16)=0,"",IF(MONTH(AL16+1)=AL$1,AL16+1,"")) -> 44840 | AM17: =TEXT(AL17,"TTT") -> Do | AN17: {=IF(AO17<>"",INDEX(TextNachTagImJahr,AL17-DATE(N($D$7),1,0),1)," ")} | AO17: =IF(N(AL17)=0,"",QUOTIENT(OS+AL17,7)+1) -> 40 | AP17: =IF(N(AP16)=0,"",IF(MONTH(AP16+1)=AP$1,AP16+1,"")) -> 44871 | AQ17: =TEXT(AP17,"TTT") -> So | AR17: {=IF(AS17<>"",INDEX(TextNachTagImJahr,AP17-DATE(N($D$7),1,0),1)," ")} -> Thomann | AS17: =IF(N(AP17)=0,"",QUOTIENT(OS+AP17,7)+1) -> 45 | AT17: =IF(N(AT16)=0,"",IF(MONTH(AT16+1)=AT$1,AT16+1,"")) -> 44901 | AU17: =TEXT(AT17,"TTT") -> Di | AV17: {=IF(AW17<>"",INDEX(TextNachTagImJahr,AT17-DATE(N($D$7),1,0),1)," ")} -> 881 4402 | AW17: =IF(N(AT17)=0,"",QUOTIENT(OS+AT17,7)+1) -> 49
B18: =IF(N(B17)=0,"",IF(MONTH(B17+1)=B$1,B17+1,"")) -> 44568 | C18: =TEXT(B18,"TTT") -> Fr | D18: {=IF(E18<>"",INDEX(TextNachTagImJahr,B18-DATE(N($D$7),1,0),1)," ")} | E18: =IF(N(B18)=0,"",QUOTIENT(OS+B18,7)+1) -> 1 | F18: =IF(N(F17)=0,"",IF(MONTH(F17+1)=F$1,F17+1,"")) -> 44599 | G18: =TEXT(F18,"TTT") -> Mo | H18: {=IF(I18<>"",INDEX(TextNachTagImJahr,F18-DATE(N($D$7),1,0),1)," ")} -> Gerhard | I18: =IF(N(F18)=0,"",QUOTIENT(OS+F18,7)+1) -> 6 | J18: =IF(N(J17)=0,"",IF(MONTH(J17+1)=J$1,J17+1,"")) -> 44627 | K18: =TEXT(J18,"TTT") -> Mo | L18: {=IF(M18<>"",INDEX(TextNachTagImJahr,J18-DATE(N($D$7),1,0),1)," ")} -> Tel.: 0761 | M18: =IF(N(J18)=0,"",QUOTIENT(OS+J18,7)+1) -> 10 | N18: =IF(N(N17)=0,"",IF(MONTH(N17+1)=N$1,N17+1,"")) -> 44658 | O18: =TEXT(N18,"TTT") -> Do | P18: {=IF(Q18<>"",INDEX(TextNachTagImJahr,N18-DATE(N($D$7),1,0),1)," ")} | Q18: =IF(N(N18)=0,"",QUOTIENT(OS+N18,7)+1) -> 14 | R18: =IF(N(R17)=0,"",IF(MONTH(R17+1)=R$1,R17+1,"")) -> 44688 | S18: =TEXT(R18,"TTT") -> Sa | T18: {=IF(U18<>"",INDEX(TextNachTagImJahr,R18-DATE(N($D$7),1,0),1)," ")} -> Ingolf | U18: =IF(N(R18)=0,"",QUOTIENT(OS+R18,7)+1) -> 19 | V18: =IF(N(V17)=0,"",IF(MONTH(V17+1)=V$1,V17+1,"")) -> 44719 | W18: =TEXT(V18,"TTT") -> Di | X18: {=IF(Y18<>"",INDEX(TextNachTagImJahr,V18-DATE(N($D$7),1,0),1)," ")} -> sehen | Y18: =IF(N(V18)=0,"",QUOTIENT(OS+V18,7)+1) -> 23 | Z18: =IF(N(Z17)=0,"",IF(MONTH(Z17+1)=Z$1,Z17+1,"")) -> 44749 | AA18: =TEXT(Z18,"TTT") -> Do | AB18: {=IF(AC18<>"",INDEX(TextNachTagImJahr,Z18-DATE(N($D$7),1,0),1)," ")} | AC18: =IF(N(Z18)=0,"",QUOTIENT(OS+Z18,7)+1) -> 27 | AD18: =IF(N(AD17)=0,"",IF(MONTH(AD17+1)=AD$1,AD17+1,"")) -> 44780 | AE18: =TEXT(AD18,"TTT") -> So | AF18: {=IF(AG18<>"",INDEX(TextNachTagImJahr,AD18-DATE(N($D$7),1,0),1)," ")} -> Dritter | AG18: =IF(N(AD18)=0,"",QUOTIENT(OS+AD18,7)+1) -> 32 | AH18: =IF(N(AH17)=0,"",IF(MONTH(AH17+1)=AH$1,AH17+1,"")) -> 44811 | AI18: =TEXT(AH18,"TTT") -> Mi | AJ18: {=IF(AK18<>"",INDEX(TextNachTagImJahr,AH18-DATE(N($D$7),1,0),1)," ")} | AK18: =IF(N(AH18)=0,"",QUOTIENT(OS+AH18,7)+1) -> 36 | AL18: =IF(N(AL17)=0,"",IF(MONTH(AL17+1)=AL$1,AL17+1,"")) -> 44841 | AM18: =TEXT(AL18,"TTT") -> Fr | AN18: {=IF(AO18<>"",INDEX(TextNachTagImJahr,AL18-DATE(N($D$7),1,0),1)," ")} | AO18: =IF(N(AL18)=0,"",QUOTIENT(OS+AL18,7)+1) -> 40 | AP18: =IF(N(AP17)=0,"",IF(MONTH(AP17+1)=AP$1,AP17+1,"")) -> 44872 | AQ18: =TEXT(AP18,"TTT") -> Mo | AR18: {=IF(AS18<>"",INDEX(TextNachTagImJahr,AP18-DATE(N($D$7),1,0),1)," ")} -> Gerhard | AS18: =IF(N(AP18)=0,"",QUOTIENT(OS+AP18,7)+1) -> 45 | AT18: =IF(N(AT17)=0,"",IF(MONTH(AT17+1)=AT$1,AT17+1,"")) -> 44902 | AU18: =TEXT(AT18,"TTT") -> Mi | AV18: {=IF(AW18<>"",INDEX(TextNachTagImJahr,AT18-DATE(N($D$7),1,0),1)," ")} | AW18: =IF(N(AT18)=0,"",QUOTIENT(OS+AT18,7)+1) -> 49
B19: =IF(N(B18)=0,"",IF(MONTH(B18+1)=B$1,B18+1,"")) -> 44569 | C19: =TEXT(B19,"TTT") -> Sa | D19: {=IF(E19<>"",INDEX(TextNachTagImJahr,B19-DATE(N($D$7),1,0),1)," ")} -> Wohnung 3 | E19: =IF(N(B19)=0,"",QUOTIENT(OS+B19,7)+1) -> 2 | F19: =IF(N(F18)=0,"",IF(MONTH(F18+1)=F$1,F18+1,"")) -> 44600 | G19: =TEXT(F19,"TTT") -> Di | H19: {=IF(I19<>"",INDEX(TextNachTagImJahr,F19-DATE(N($D$7),1,0),1)," ")} | I19: =IF(N(F19)=0,"",QUOTIENT(OS+F19,7)+1) -> 6 | J19: =IF(N(J18)=0,"",IF(MONTH(J18+1)=J$1,J18+1,"")) -> 44628 | K19: =TEXT(J19,"TTT") -> Di | L19: {=IF(M19<>"",INDEX(TextNachTagImJahr,J19-DATE(N($D$7),1,0),1)," ")} -> 881 4402 | M19: =IF(N(J19)=0,"",QUOTIENT(OS+J19,7)+1) -> 10 | N19: =IF(N(N18)=0,"",IF(MONTH(N18+1)=N$1,N18+1,"")) -> 44659 | O19: =TEXT(N19,"TTT") -> Fr | P19: {=IF(Q19<>"",INDEX(TextNachTagImJahr,N19-DATE(N($D$7),1,0),1)," ")} | Q19: =IF(N(N19)=0,"",QUOTIENT(OS+N19,7)+1) -> 14 | R19: =IF(N(R18)=0,"",IF(MONTH(R18+1)=R$1,R18+1,"")) -> 44689 | S19: =TEXT(R19,"TTT") -> So | T19: {=IF(U19<>"",INDEX(TextNachTagImJahr,R19-DATE(N($D$7),1,0),1)," ")} -> Matys | U19: =IF(N(R19)=0,"",QUOTIENT(OS+R19,7)+1) -> 19 | V19: =IF(N(V18)=0,"",IF(MONTH(V18+1)=V$1,V18+1,"")) -> 44720 | W19: =TEXT(V19,"TTT") -> Mi | X19: {=IF(Y19<>"",INDEX(TextNachTagImJahr,V19-DATE(N($D$7),1,0),1)," ")} | Y19: =IF(N(V19)=0,"",QUOTIENT(OS+V19,7)+1) -> 23 | Z19: =IF(N(Z18)=0,"",IF(MONTH(Z18+1)=Z$1,Z18+1,"")) -> 44750 | AA19: =TEXT(Z19,"TTT") -> Fr | AB19: {=IF(AC19<>"",INDEX(TextNachTagImJahr,Z19-DATE(N($D$7),1,0),1)," ")} | AC19: =IF(N(Z19)=0,"",QUOTIENT(OS+Z19,7)+1) -> 27 | AD19: =IF(N(AD18)=0,"",IF(MONTH(AD18+1)=AD$1,AD18+1,"")) -> 44781 | AE19: =TEXT(AD19,"TTT") -> Mo | AF19: {=IF(AG19<>"",INDEX(TextNachTagImJahr,AD19-DATE(N($D$7),1,0),1)," ")} -> mal | AG19: =IF(N(AD19)=0,"",QUOTIENT(OS+AD19,7)+1) -> 32 | AH19: =IF(N(AH18)=0,"",IF(MONTH(AH18+1)=AH$1,AH18+1,"")) -> 44812 | AI19: =TEXT(AH19,"TTT") -> Do | AJ19: {=IF(AK19<>"",INDEX(TextNachTagImJahr,AH19-DATE(N($D$7),1,0),1)," ")} | AK19: =IF(N(AH19)=0,"",QUOTIENT(OS+AH19,7)+1) -> 36 | AL19: =IF(N(AL18)=0,"",IF(MONTH(AL18+1)=AL$1,AL18+1,"")) -> 44842 | AM19: =TEXT(AL19,"TTT") -> Sa | AN19: {=IF(AO19<>"",INDEX(TextNachTagImJahr,AL19-DATE(N($D$7),1,0),1)," ")} -> Wohnung 3 | AO19: =IF(N(AL19)=0,"",QUOTIENT(OS+AL19,7)+1) -> 41 | AP19: =IF(N(AP18)=0,"",IF(MONTH(AP18+1)=AP$1,AP18+1,"")) -> 44873 | AQ19: =TEXT(AP19,"TTT") -> Di | AR19: {=IF(AS19<>"",INDEX(TextNachTagImJahr,AP19-DATE(N($D$7),1,0),1)," ")} | AS19: =IF(N(AP19)=0,"",QUOTIENT(OS+AP19,7)+1) -> 45 | AT19: =IF(N(AT18)=0,"",IF(MONTH(AT18+1)=AT$1,AT18+1,"")) -> 44903 | AU19: =TEXT(AT19,"TTT") -> Do | AV19: {=IF(AW19<>"",INDEX(TextNachTagImJahr,AT19-DATE(N($D$7),1,0),1)," ")} | AW19: =IF(N(AT19)=0,"",QUOTIENT(OS+AT19,7)+1) -> 49
B20: =IF(N(B19)=0,"",IF(MONTH(B19+1)=B$1,B19+1,"")) -> 44570 | C20: =TEXT(B20,"TTT") -> So | D20: {=IF(E20<>"",INDEX(TextNachTagImJahr,B20-DATE(N($D$7),1,0),1)," ")} -> Dritter | E20: =IF(N(B20)=0,"",QUOTIENT(OS+B20,7)+1) -> 2 | F20: =IF(N(F19)=0,"",IF(MONTH(F19+1)=F$1,F19+1,"")) -> 44601 | G20: =TEXT(F20,"TTT") -> Mi | H20: {=IF(I20<>"",INDEX(TextNachTagImJahr,F20-DATE(N($D$7),1,0),1)," ")} | I20: =IF(N(F20)=0,"",QUOTIENT(OS+F20,7)+1) -> 6 | J20: =IF(N(J19)=0,"",IF(MONTH(J19+1)=J$1,J19+1,"")) -> 44629 | K20: =TEXT(J20,"TTT") -> Mi | L20: {=IF(M20<>"",INDEX(TextNachTagImJahr,J20-DATE(N($D$7),1,0),1)," ")} | M20: =IF(N(J20)=0,"",QUOTIENT(OS+J20,7)+1) -> 10 | N20: =IF(N(N19)=0,"",IF(MONTH(N19+1)=N$1,N19+1,"")) -> 44660 | O20: =TEXT(N20,"TTT") -> Sa | P20: {=IF(Q20<>"",INDEX(TextNachTagImJahr,N20-DATE(N($D$7),1,0),1)," ")} -> WHG-01 | Q20: =IF(N(N20)=0,"",QUOTIENT(OS+N20,7)+1) -> 15 | R20: =IF(N(R19)=0,"",IF(MONTH(R19+1)=R$1,R19+1,"")) -> 44690 | S20: =TEXT(R20,"TTT") -> Mo | T20: {=IF(U20<>"",INDEX(TextNachTagImJahr,R20-DATE(N($D$7),1,0),1)," ")} -> Tel.: 0761 | U20: =IF(N(R20)=0,"",QUOTIENT(OS+R20,7)+1) -> 19 | V20: =IF(N(V19)=0,"",IF(MONTH(V19+1)=V$1,V19+1,"")) -> 44721 | W20: =TEXT(V20,"TTT") -> Do | X20: {=IF(Y20<>"",INDEX(TextNachTagImJahr,V20-DATE(N($D$7),1,0),1)," ")} | Y20: =IF(N(V20)=0,"",QUOTIENT(OS+V20,7)+1) -> 23 | Z20: =IF(N(Z19)=0,"",IF(MONTH(Z19+1)=Z$1,Z19+1,"")) -> 44751 | AA20: =TEXT(Z20,"TTT") -> Sa | AB20: {=IF(AC20<>"",INDEX(TextNachTagImJahr,Z20-DATE(N($D$7),1,0),1)," ")} -> Ingolf | AC20: =IF(N(Z20)=0,"",QUOTIENT(OS+Z20,7)+1) -> 28 | AD20: =IF(N(AD19)=0,"",IF(MONTH(AD19+1)=AD$1,AD19+1,"")) -> 44782 | AE20: =TEXT(AD20,"TTT") -> Di | AF20: {=IF(AG20<>"",INDEX(TextNachTagImJahr,AD20-DATE(N($D$7),1,0),1)," ")} -> sehen | AG20: =IF(N(AD20)=0,"",QUOTIENT(OS+AD20,7)+1) -> 32 | AH20: =IF(N(AH19)=0,"",IF(MONTH(AH19+1)=AH$1,AH19+1,"")) -> 44813 | AI20: =TEXT(AH20,"TTT") -> Fr | AJ20: {=IF(AK20<>"",INDEX(TextNachTagImJahr,AH20-DATE(N($D$7),1,0),1)," ")} | AK20: =IF(N(AH20)=0,"",QUOTIENT(OS+AH20,7)+1) -> 36 | AL20: =IF(N(AL19)=0,"",IF(MONTH(AL19+1)=AL$1,AL19+1,"")) -> 44843 | AM20: =TEXT(AL20,"TTT") -> So | AN20: {=IF(AO20<>"",INDEX(TextNachTagImJahr,AL20-DATE(N($D$7),1,0),1)," ")} -> Dritter | AO20: =IF(N(AL20)=0,"",QUOTIENT(OS+AL20,7)+1) -> 41 | AP20: =IF(N(AP19)=0,"",IF(MONTH(AP19+1)=AP$1,AP19+1,"")) -> 44874 | AQ20: =TEXT(AP20,"TTT") -> Mi | AR20: {=IF(AS20<>"",INDEX(TextNachTagImJahr,AP20-DATE(N($D$7),1,0),1)," ")} | AS20: =IF(N(AP20)=0,"",QUOTIENT(OS+AP20,7)+1) -> 45 | AT20: =IF(N(AT19)=0,"",IF(MONTH(AT19+1)=AT$1,AT19+1,"")) -> 44904 | AU20: =TEXT(AT20,"TTT") -> Fr | AV20: {=IF(AW20<>"",INDEX(TextNachTagImJahr,AT20-DATE(N($D$7),1,0),1)," ")} | AW20: =IF(N(AT20)=0,"",QUOTIENT(OS+AT20,7)+1) -> 49
B21: =IF(N(B20)=0,"",IF(MONTH(B20+1)=B$1,B20+1,"")) -> 44571 | C21: =TEXT(B21,"TTT") -> Mo | D21: {=IF(E21<>"",INDEX(TextNachTagImJahr,B21-DATE(N($D$7),1,0),1)," ")} -> mal | E21: =IF(N(B21)=0,"",QUOTIENT(OS+B21,7)+1) -> 2 | F21: =IF(N(F20)=0,"",IF(MONTH(F20+1)=F$1,F20+1,"")) -> 44602 | G21: =TEXT(F21,"TTT") -> Do | H21: {=IF(I21<>"",INDEX(TextNachTagImJahr,F21-DATE(N($D$7),1,0),1)," ")} | I21: =IF(N(F21)=0,"",QUOTIENT(OS+F21,7)+1) -> 6 | J21: =IF(N(J20)=0,"",IF(MONTH(J20+1)=J$1,J20+1,"")) -> 44630 | K21: =TEXT(J21,"TTT") -> Do | L21: {=IF(M21<>"",INDEX(TextNachTagImJahr,J21-DATE(N($D$7),1,0),1)," ")} | M21: =IF(N(J21)=0,"",QUOTIENT(OS+J21,7)+1) -> 10 | N21: =IF(N(N20)=0,"",IF(MONTH(N20+1)=N$1,N20+1,"")) -> 44661 | O21: =TEXT(N21,"TTT") -> So | P21: {=IF(Q21<>"",INDEX(TextNachTagImJahr,N21-DATE(N($D$7),1,0),1)," ")} -> Thomann | Q21: =IF(N(N21)=0,"",QUOTIENT(OS+N21,7)+1) -> 15 | R21: =IF(N(R20)=0,"",IF(MONTH(R20+1)=R$1,R20+1,"")) -> 44691 | S21: =TEXT(R21,"TTT") -> Di | T21: {=IF(U21<>"",INDEX(TextNachTagImJahr,R21-DATE(N($D$7),1,0),1)," ")} -> 881 4402 | U21: =IF(N(R21)=0,"",QUOTIENT(OS+R21,7)+1) -> 19 | V21: =IF(N(V20)=0,"",IF(MONTH(V20+1)=V$1,V20+1,"")) -> 44722 | W21: =TEXT(V21,"TTT") -> Fr | X21: {=IF(Y21<>"",INDEX(TextNachTagImJahr,V21-DATE(N($D$7),1,0),1)," ")} | Y21: =IF(N(V21)=0,"",QUOTIENT(OS+V21,7)+1) -> 23 | Z21: =IF(N(Z20)=0,"",IF(MONTH(Z20+1)=Z$1,Z20+1,"")) -> 44752 | AA21: =TEXT(Z21,"TTT") -> So | AB21: {=IF(AC21<>"",INDEX(TextNachTagImJahr,Z21-DATE(N($D$7),1,0),1)," ")} -> Matys | AC21: =IF(N(Z21)=0,"",QUOTIENT(OS+Z21,7)+1) -> 28 | AD21: =IF(N(AD20)=0,"",IF(MONTH(AD20+1)=AD$1,AD20+1,"")) -> 44783 | AE21: =TEXT(AD21,"TTT") -> Mi | AF21: {=IF(AG21<>"",INDEX(TextNachTagImJahr,AD21-DATE(N($D$7),1,0),1)," ")} | AG21: =IF(N(AD21)=0,"",QUOTIENT(OS+AD21,7)+1) -> 32 | AH21: =IF(N(AH20)=0,"",IF(MONTH(AH20+1)=AH$1,AH20+1,"")) -> 44814 | AI21: =TEXT(AH21,"TTT") -> Sa | AJ21: {=IF(AK21<>"",INDEX(TextNachTagImJahr,AH21-DATE(N($D$7),1,0),1)," ")} -> Ingolf | AK21: =IF(N(AH21)=0,"",QUOTIENT(OS+AH21,7)+1) -> 37 | AL21: =IF(N(AL20)=0,"",IF(MONTH(AL20+1)=AL$1,AL20+1,"")) -> 44844 | AM21: =TEXT(AL21,"TTT") -> Mo | AN21: {=IF(AO21<>"",INDEX(TextNachTagImJahr,AL21-DATE(N($D$7),1,0),1)," ")} -> mal | AO21: =IF(N(AL21)=0,"",QUOTIENT(OS+AL21,7)+1) -> 41 | AP21: =IF(N(AP20)=0,"",IF(MONTH(AP20+1)=AP$1,AP20+1,"")) -> 44875 | AQ21: =TEXT(AP21,"TTT") -> Do | AR21: {=IF(AS21<>"",INDEX(TextNachTagImJahr,AP21-DATE(N($D$7),1,0),1)," ")} | AS21: =IF(N(AP21)=0,"",QUOTIENT(OS+AP21,7)+1) -> 45 | AT21: =IF(N(AT20)=0,"",IF(MONTH(AT20+1)=AT$1,AT20+1,"")) -> 44905 | AU21: =TEXT(AT21,"TTT") -> Sa | AV21: {=IF(AW21<>"",INDEX(TextNachTagImJahr,AT21-DATE(N($D$7),1,0),1)," ")} -> Wohnung 3 | AW21: =IF(N(AT21)=0,"",QUOTIENT(OS+AT21,7)+1) -> 50
B22: =IF(N(B21)=0,"",IF(MONTH(B21+1)=B$1,B21+1,"")) -> 44572 | C22: =TEXT(B22,"TTT") -> Di | D22: {=IF(E22<>"",INDEX(TextNachTagImJahr,B22-DATE(N($D$7),1,0),1)," ")} -> sehen | E22: =IF(N(B22)=0,"",QUOTIENT(OS+B22,7)+1) -> 2 | F22: =IF(N(F21)=0,"",IF(MONTH(F21+1)=F$1,F21+1,"")) -> 44603 | G22: =TEXT(F22,"TTT") -> Fr | H22: {=IF(I22<>"",INDEX(TextNachTagImJahr,F22-DATE(N($D$7),1,0),1)," ")} | I22: =IF(N(F22)=0,"",QUOTIENT(OS+F22,7)+1) -> 6 | J22: =IF(N(J21)=0,"",IF(MONTH(J21+1)=J$1,J21+1,"")) -> 44631 | K22: =TEXT(J22,"TTT") -> Fr | L22: {=IF(M22<>"",INDEX(TextNachTagImJahr,J22-DATE(N($D$7),1,0),1)," ")} | M22: =IF(N(J22)=0,"",QUOTIENT(OS+J22,7)+1) -> 10 | N22: =IF(N(N21)=0,"",IF(MONTH(N21+1)=N$1,N21+1,"")) -> 44662 | O22: =TEXT(N22,"TTT") -> Mo | P22: {=IF(Q22<>"",INDEX(TextNachTagImJahr,N22-DATE(N($D$7),1,0),1)," ")} -> Gerhard | Q22: =IF(N(N22)=0,"",QUOTIENT(OS+N22,7)+1) -> 15 | R22: =IF(N(R21)=0,"",IF(MONTH(R21+1)=R$1,R21+1,"")) -> 44692 | S22: =TEXT(R22,"TTT") -> Mi | T22: {=IF(U22<>"",INDEX(TextNachTagImJahr,R22-DATE(N($D$7),1,0),1)," ")} | U22: =IF(N(R22)=0,"",QUOTIENT(OS+R22,7)+1) -> 19 | V22: =IF(N(V21)=0,"",IF(MONTH(V21+1)=V$1,V21+1,"")) -> 44723 | W22: =TEXT(V22,"TTT") -> Sa | X22: {=IF(Y22<>"",INDEX(TextNachTagImJahr,V22-DATE(N($D$7),1,0),1)," ")} -> WHG-01 | Y22: =IF(N(V22)=0,"",QUOTIENT(OS+V22,7)+1) -> 24 | Z22: =IF(N(Z21)=0,"",IF(MONTH(Z21+1)=Z$1,Z21+1,"")) -> 44753 | AA22: =TEXT(Z22,"TTT") -> Mo | AB22: {=IF(AC22<>"",INDEX(TextNachTagImJahr,Z22-DATE(N($D$7),1,0),1)," ")} -> Tel.: 0761 | AC22: =IF(N(Z22)=0,"",QUOTIENT(OS+Z22,7)+1) -> 28 | AD22: =IF(N(AD21)=0,"",IF(MONTH(AD21+1)=AD$1,AD21+1,"")) -> 44784 | AE22: =TEXT(AD22,"TTT") -> Do | AF22: {=IF(AG22<>"",INDEX(TextNachTagImJahr,AD22-DATE(N($D$7),1,0),1)," ")} | AG22: =IF(N(AD22)=0,"",QUOTIENT(OS+AD22,7)+1) -> 32 | AH22: =IF(N(AH21)=0,"",IF(MONTH(AH21+1)=AH$1,AH21+1,"")) -> 44815 | AI22: =TEXT(AH22,"TTT") -> So | AJ22: {=IF(AK22<>"",INDEX(TextNachTagImJahr,AH22-DATE(N($D$7),1,0),1)," ")} -> Matys | AK22: =IF(N(AH22)=0,"",QUOTIENT(OS+AH22,7)+1) -> 37 | AL22: =IF(N(AL21)=0,"",IF(MONTH(AL21+1)=AL$1,AL21+1,"")) -> 44845 | AM22: =TEXT(AL22,"TTT") -> Di | AN22: {=IF(AO22<>"",INDEX(TextNachTagImJahr,AL22-DATE(N($D$7),1,0),1)," ")} -> sehen | AO22: =IF(N(AL22)=0,"",QUOTIENT(OS+AL22,7)+1) -> 41 | AP22: =IF(N(AP21)=0,"",IF(MONTH(AP21+1)=AP$1,AP21+1,"")) -> 44876 | AQ22: =TEXT(AP22,"TTT") -> Fr | AR22: {=IF(AS22<>"",INDEX(TextNachTagImJahr,AP22-DATE(N($D$7),1,0),1)," ")} | AS22: =IF(N(AP22)=0,"",QUOTIENT(OS+AP22,7)+1) -> 45 | AT22: =IF(N(AT21)=0,"",IF(MONTH(AT21+1)=AT$1,AT21+1,"")) -> 44906 | AU22: =TEXT(AT22,"TTT") -> So | AV22: {=IF(AW22<>"",INDEX(TextNachTagImJahr,AT22-DATE(N($D$7),1,0),1)," ")} -> Dritter | AW22: =IF(N(AT22)=0,"",QUOTIENT(OS+AT22,7)+1) -> 50
B23: =IF(N(B22)=0,"",IF(MONTH(B22+1)=B$1,B22+1,"")) -> 44573 | C23: =TEXT(B23,"TTT") -> Mi | D23: {=IF(E23<>"",INDEX(TextNachTagImJahr,B23-DATE(N($D$7),1,0),1)," ")} | E23: =IF(N(B23)=0,"",QUOTIENT(OS+B23,7)+1) -> 2 | F23: =IF(N(F22)=0,"",IF(MONTH(F22+1)=F$1,F22+1,"")) -> 44604 | G23: =TEXT(F23,"TTT") -> Sa | H23: {=IF(I23<>"",INDEX(TextNachTagImJahr,F23-DATE(N($D$7),1,0),1)," ")} -> Ingolf | I23: =IF(N(F23)=0,"",QUOTIENT(OS+F23,7)+1) -> 7 | J23: =IF(N(J22)=0,"",IF(MONTH(J22+1)=J$1,J22+1,"")) -> 44632 | K23: =TEXT(J23,"TTT") -> Sa | L23: {=IF(M23<>"",INDEX(TextNachTagImJahr,J23-DATE(N($D$7),1,0),1)," ")} -> Wohnung 3 | M23: =IF(N(J23)=0,"",QUOTIENT(OS+J23,7)+1) -> 11 | N23: =IF(N(N22)=0,"",IF(MONTH(N22+1)=N$1,N22+1,"")) -> 44663 | O23: =TEXT(N23,"TTT") -> Di | P23: {=IF(Q23<>"",INDEX(TextNachTagImJahr,N23-DATE(N($D$7),1,0),1)," ")} | Q23: =IF(N(N23)=0,"",QUOTIENT(OS+N23,7)+1) -> 15 | R23: =IF(N(R22)=0,"",IF(MONTH(R22+1)=R$1,R22+1,"")) -> 44693 | S23: =TEXT(R23,"TTT") -> Do | T23: {=IF(U23<>"",INDEX(TextNachTagImJahr,R23-DATE(N($D$7),1,0),1)," ")} | U23: =IF(N(R23)=0,"",QUOTIENT(OS+R23,7)+1) -> 19 | V23: =IF(N(V22)=0,"",IF(MONTH(V22+1)=V$1,V22+1,"")) -> 44724 | W23: =TEXT(V23,"TTT") -> So | X23: {=IF(Y23<>"",INDEX(TextNachTagImJahr,V23-DATE(N($D$7),1,0),1)," ")} -> Thomann | Y23: =IF(N(V23)=0,"",QUOTIENT(OS+V23,7)+1) -> 24 | Z23: =IF(N(Z22)=0,"",IF(MONTH(Z22+1)=Z$1,Z22+1,"")) -> 44754 | AA23: =TEXT(Z23,"TTT") -> Di | AB23: {=IF(AC23<>"",INDEX(TextNachTagImJahr,Z23-DATE(N($D$7),1,0),1)," ")} -> 881 4402 | AC23: =IF(N(Z23)=0,"",QUOTIENT(OS+Z23,7)+1) -> 28 | AD23: =IF(N(AD22)=0,"",IF(MONTH(AD22+1)=AD$1,AD22+1,"")) -> 44785 | AE23: =TEXT(AD23,"TTT") -> Fr | AF23: {=IF(AG23<>"",INDEX(TextNachTagImJahr,AD23-DATE(N($D$7),1,0),1)," ")} | AG23: =IF(N(AD23)=0,"",QUOTIENT(OS+AD23,7)+1) -> 32 | AH23: =IF(N(AH22)=0,"",IF(MONTH(AH22+1)=AH$1,AH22+1,"")) -> 44816 | AI23: =TEXT(AH23,"TTT") -> Mo | AJ23: {=IF(AK23<>"",INDEX(TextNachTagImJahr,AH23-DATE(N($D$7),1,0),1)," ")} -> Tel.: 0761 | AK23: =IF(N(AH23)=0,"",QUOTIENT(OS+AH23,7)+1) -> 37 | AL23: =IF(N(AL22)=0,"",IF(MONTH(AL22+1)=AL$1,AL22+1,"")) -> 44846 | AM23: =TEXT(AL23,"TTT") -> Mi | AN23: {=IF(AO23<>"",INDEX(TextNachTagImJahr,AL23-DATE(N($D$7),1,0),1)," ")} | AO23: =IF(N(AL23)=0,"",QUOTIENT(OS+AL23,7)+1) -> 41 | AP23: =IF(N(AP22)=0,"",IF(MONTH(AP22+1)=AP$1,AP22+1,"")) -> 44877 | AQ23: =TEXT(AP23,"TTT") -> Sa | AR23: {=IF(AS23<>"",INDEX(TextNachTagImJahr,AP23-DATE(N($D$7),1,0),1)," ")} -> Ingolf | AS23: =IF(N(AP23)=0,"",QUOTIENT(OS+AP23,7)+1) -> 46 | AT23: =IF(N(AT22)=0,"",IF(MONTH(AT22+1)=AT$1,AT22+1,"")) -> 44907 | AU23: =TEXT(AT23,"TTT") -> Mo | AV23: {=IF(AW23<>"",INDEX(TextNachTagImJahr,AT23-DATE(N($D$7),1,0),1)," ")} -> mal | AW23: =IF(N(AT23)=0,"",QUOTIENT(OS+AT23,7)+1) -> 50
B24: =IF(N(B23)=0,"",IF(MONTH(B23+1)=B$1,B23+1,"")) -> 44574 | C24: =TEXT(B24,"TTT") -> Do | D24: {=IF(E24<>"",INDEX(TextNachTagImJahr,B24-DATE(N($D$7),1,0),1)," ")} | E24: =IF(N(B24)=0,"",QUOTIENT(OS+B24,7)+1) -> 2 | F24: =IF(N(F23)=0,"",IF(MONTH(F23+1)=F$1,F23+1,"")) -> 44605 | G24: =TEXT(F24,"TTT") -> So | H24: {=IF(I24<>"",INDEX(TextNachTagImJahr,F24-DATE(N($D$7),1,0),1)," ")} -> Matys | I24: =IF(N(F24)=0,"",QUOTIENT(OS+F24,7)+1) -> 7 | J24: =IF(N(J23)=0,"",IF(MONTH(J23+1)=J$1,J23+1,"")) -> 44633 | K24: =TEXT(J24,"TTT") -> So | L24: {=IF(M24<>"",INDEX(TextNachTagImJahr,J24-DATE(N($D$7),1,0),1)," ")} -> Dritter | M24: =IF(N(J24)=0,"",QUOTIENT(OS+J24,7)+1) -> 11 | N24: =IF(N(N23)=0,"",IF(MONTH(N23+1)=N$1,N23+1,"")) -> 44664 | O24: =TEXT(N24,"TTT") -> Mi | P24: {=IF(Q24<>"",INDEX(TextNachTagImJahr,N24-DATE(N($D$7),1,0),1)," ")} | Q24: =IF(N(N24)=0,"",QUOTIENT(OS+N24,7)+1) -> 15 | R24: =IF(N(R23)=0,"",IF(MONTH(R23+1)=R$1,R23+1,"")) -> 44694 | S24: =TEXT(R24,"TTT") -> Fr | T24: {=IF(U24<>"",INDEX(TextNachTagImJahr,R24-DATE(N($D$7),1,0),1)," ")} | U24: =IF(N(R24)=0,"",QUOTIENT(OS+R24,7)+1) -> 19 | V24: =IF(N(V23)=0,"",IF(MONTH(V23+1)=V$1,V23+1,"")) -> 44725 | W24: =TEXT(V24,"TTT") -> Mo | X24: {=IF(Y24<>"",INDEX(TextNachTagImJahr,V24-DATE(N($D$7),1,0),1)," ")} -> Gerhard | Y24: =IF(N(V24)=0,"",QUOTIENT(OS+V24,7)+1) -> 24 | Z24: =IF(N(Z23)=0,"",IF(MONTH(Z23+1)=Z$1,Z23+1,"")) -> 44755 | AA24: =TEXT(Z24,"TTT") -> Mi | AB24: {=IF(AC24<>"",INDEX(TextNachTagImJahr,Z24-DATE(N($D$7),1,0),1)," ")} | AC24: =IF(N(Z24)=0,"",QUOTIENT(OS+Z24,7)+1) -> 28 | AD24: =IF(N(AD23)=0,"",IF(MONTH(AD23+1)=AD$1,AD23+1,"")) -> 44786 | AE24: =TEXT(AD24,"TTT") -> Sa | AF24: {=IF(AG24<>"",INDEX(TextNachTagImJahr,AD24-DATE(N($D$7),1,0),1)," ")} -> WHG-01 | AG24: =IF(N(AD24)=0,"",QUOTIENT(OS+AD24,7)+1) -> 33 | AH24: =IF(N(AH23)=0,"",IF(MONTH(AH23+1)=AH$1,AH23+1,"")) -> 44817 | AI24: =TEXT(AH24,"TTT") -> Di | AJ24: {=IF(AK24<>"",INDEX(TextNachTagImJahr,AH24-DATE(N($D$7),1,0),1)," ")} -> 881 4402 | AK24: =IF(N(AH24)=0,"",QUOTIENT(OS+AH24,7)+1) -> 37 | AL24: =IF(N(AL23)=0,"",IF(MONTH(AL23+1)=AL$1,AL23+1,"")) -> 44847 | AM24: =TEXT(AL24,"TTT") -> Do | AN24: {=IF(AO24<>"",INDEX(TextNachTagImJahr,AL24-DATE(N($D$7),1,0),1)," ")} | AO24: =IF(N(AL24)=0,"",QUOTIENT(OS+AL24,7)+1) -> 41 | AP24: =IF(N(AP23)=0,"",IF(MONTH(AP23+1)=AP$1,AP23+1,"")) -> 44878 | AQ24: =TEXT(AP24,"TTT") -> So | AR24: {=IF(AS24<>"",INDEX(TextNachTagImJahr,AP24-DATE(N($D$7),1,0),1)," ")} -> Matys | AS24: =IF(N(AP24)=0,"",QUOTIENT(OS+AP24,7)+1) -> 46 | AT24: =IF(N(AT23)=0,"",IF(MONTH(AT23+1)=AT$1,AT23+1,"")) -> 44908 | AU24: =TEXT(AT24,"TTT") -> Di | AV24: {=IF(AW24<>"",INDEX(TextNachTagImJahr,AT24-DATE(N($D$7),1,0),1)," ")} -> sehen | AW24: =IF(N(AT24)=0,"",QUOTIENT(OS+AT24,7)+1) -> 50
... B40: =IF(N(B39)=0,"",IF(MONTH(B39+1)=B$1,B39+1,"")) -> 44590 | C40: =TEXT(B40,"TTT") -> Sa | D40: {=IF(E40<>"",INDEX(TextNachTagImJahr,B40-DATE(N($D$7),1,0),1)," ")} -> Wohnung 3 | E40: =IF(N(B40)=0,"",QUOTIENT(OS+B40,7)+1) -> 5 | F40: =IF(N(F39)=0,"",IF(MONTH(F39+1)=F$1,F39+1,"")) | G40: =TEXT(F40,"TTT") | H40: {=IF(I40<>"",INDEX(TextNachTagImJahr,F40-DATE(N($D$7),1,0),1)," ")} | I40: =IF(N(F40)=0,"",QUOTIENT(OS+F40,7)+1) | J40: =IF(N(J39)=0,"",IF(MONTH(J39+1)=J$1,J39+1,"")) -> 44649 | K40: =TEXT(J40,"TTT") -> Di | L40: {=IF(M40<>"",INDEX(TextNachTagImJahr,J40-DATE(N($D$7),1,0),1)," ")} -> 881 4402 | M40: =IF(N(J40)=0,"",QUOTIENT(OS+J40,7)+1) -> 13 | N40: =IF(N(N39)=0,"",IF(MONTH(N39+1)=N$1,N39+1,"")) -> 44680 | O40: =TEXT(N40,"TTT") -> Fr | P40: {=IF(Q40<>"",INDEX(TextNachTagImJahr,N40-DATE(N($D$7),1,0),1)," ")} | Q40: =IF(N(N40)=0,"",QUOTIENT(OS+N40,7)+1) -> 17 | R40: =IF(N(R39)=0,"",IF(MONTH(R39+1)=R$1,R39+1,"")) -> 44710 | S40: =TEXT(R40,"TTT") -> So | T40: {=IF(U40<>"",INDEX(TextNachTagImJahr,R40-DATE(N($D$7),1,0),1)," ")} -> Matys | U40: =IF(N(R40)=0,"",QUOTIENT(OS+R40,7)+1) -> 22 | V40: =IF(N(V39)=0,"",IF(MONTH(V39+1)=V$1,V39+1,"")) -> 44741 | W40: =TEXT(V40,"TTT") -> Mi | X40: {=IF(Y40<>"",INDEX(TextNachTagImJahr,V40-DATE(N($D$7),1,0),1)," ")} | Y40: =IF(N(V40)=0,"",QUOTIENT(OS+V40,7)+1) -> 26 | Z40: =IF(N(Z39)=0,"",IF(MONTH(Z39+1)=Z$1,Z39+1,"")) -> 44771 | AA40: =TEXT(Z40,"TTT") -> Fr | AB40: {=IF(AC40<>"",INDEX(TextNachTagImJahr,Z40-DATE(N($D$7),1,0),1)," ")} | AC40: =IF(N(Z40)=0,"",QUOTIENT(OS+Z40,7)+1) -> 30 | AD40: =IF(N(AD39)=0,"",IF(MONTH(AD39+1)=AD$1,AD39+1,"")) -> 44802 | AE40: =TEXT(AD40,"TTT") -> Mo | AF40: {=IF(AG40<>"",INDEX(TextNachTagImJahr,AD40-DATE(N($D$7),1,0),1)," ")} -> mal | AG40: =IF(N(AD40)=0,"",QUOTIENT(OS+AD40,7)+1) -> 35 | AH40: =IF(N(AH39)=0,"",IF(MONTH(AH39+1)=AH$1,AH39+1,"")) -> 44833 | AI40: =TEXT(AH40,"TTT") -> Do | AJ40: {=IF(AK40<>"",INDEX(TextNachTagImJahr,AH40-DATE(N($D$7),1,0),1)," ")} | AK40: =IF(N(AH40)=0,"",QUOTIENT(OS+AH40,7)+1) -> 39 | AL40: =IF(N(AL39)=0,"",IF(MONTH(AL39+1)=AL$1,AL39+1,"")) -> 44863 | AM40: =TEXT(AL40,"TTT") -> Sa | AN40: {=IF(AO40<>"",INDEX(TextNachTagImJahr,AL40-DATE(N($D$7),1,0),1)," ")} -> Wohnung 3 | AO40: =IF(N(AL40)=0,"",QUOTIENT(OS+AL40,7)+1) -> 44 | AP40: =IF(N(AP39)=0,"",IF(MONTH(AP39+1)=AP$1,AP39+1,"")) -> 44894 | AQ40: =TEXT(AP40,"TTT") -> Di | AR40: {=IF(AS40<>"",INDEX(TextNachTagImJahr,AP40-DATE(N($D$7),1,0),1)," ")} | AS40: =IF(N(AP40)=0,"",QUOTIENT(OS+AP40,7)+1) -> 48 | AT40: =IF(N(AT39)=0,"",IF(MONTH(AT39+1)=AT$1,AT39+1,"")) -> 44924 | AU40: =TEXT(AT40,"TTT") -> Do | AV40: {=IF(AW40<>"",INDEX(TextNachTagImJahr,AT40-DATE(N($D$7),1,0),1)," ")} | AW40: =IF(N(AT40)=0,"",QUOTIENT(OS+AT40,7)+1) -> 52
B41: =IF(N(B40)=0,"",IF(MONTH(B40+1)=B$1,B40+1,"")) -> 44591 | C41: =TEXT(B41,"TTT") -> So | D41: {=IF(E41<>"",INDEX(TextNachTagImJahr,B41-DATE(N($D$7),1,0),1)," ")} -> Dritter | E41: =IF(N(B41)=0,"",QUOTIENT(OS+B41,7)+1) -> 5 | F41: =IF(N(F40)=0,"",IF(MONTH(F40+1)=F$1,F40+1,"")) | H41: {=IF(I41<>"",INDEX(TextNachTagImJahr,F41-DATE(N($D$7),1,0),1)," ")} | I41: =IF(N(F41)=0,"",QUOTIENT(OS+F41,7)+1) | J41: =IF(N(J40)=0,"",IF(MONTH(J40+1)=J$1,J40+1,"")) -> 44650 | K41: =TEXT(J41,"TTT") -> Mi | L41: {=IF(M41<>"",INDEX(TextNachTagImJahr,J41-DATE(N($D$7),1,0),1)," ")} | M41: =IF(N(J41)=0,"",QUOTIENT(OS+J41,7)+1) -> 13 | N41: =IF(N(N40)=0,"",IF(MONTH(N40+1)=N$1,N40+1,"")) -> 44681 | O41: =TEXT(N41,"TTT") -> Sa | P41: {=IF(Q41<>"",INDEX(TextNachTagImJahr,N41-DATE(N($D$7),1,0),1)," ")} -> WHG-01 | Q41: =IF(N(N41)=0,"",QUOTIENT(OS+N41,7)+1) -> 18 | R41: =IF(N(R40)=0,"",IF(MONTH(R40+1)=R$1,R40+1,"")) -> 44711 | S41: =TEXT(R41,"TTT") -> Mo | T41: {=IF(U41<>"",INDEX(TextNachTagImJahr,R41-DATE(N($D$7),1,0),1)," ")} -> Tel.: 0761 | U41: =IF(N(R41)=0,"",QUOTIENT(OS+R41,7)+1) -> 22 | V41: =IF(N(V40)=0,"",IF(MONTH(V40+1)=V$1,V40+1,"")) -> 44742 | W41: =TEXT(V41,"TTT") -> Do | X41: {=IF(Y41<>"",INDEX(TextNachTagImJahr,V41-DATE(N($D$7),1,0),1)," ")} | Y41: =IF(N(V41)=0,"",QUOTIENT(OS+V41,7)+1) -> 26 | Z41: =IF(N(Z40)=0,"",IF(MONTH(Z40+1)=Z$1,Z40+1,"")) -> 44772 | AA41: =TEXT(Z41,"TTT") -> Sa | AB41: {=IF(AC41<>"",INDEX(TextNachTagImJahr,Z41-DATE(N($D$7),1,0),1)," ")} -> Ingolf | AC41: =IF(N(Z41)=0,"",QUOTIENT(OS+Z41,7)+1) -> 31 | AD41: =IF(N(AD40)=0,"",IF(MONTH(AD40+1)=AD$1,AD40+1,"")) -> 44803 | AE41: =TEXT(AD41,"TTT") -> Di | AF41: {=IF(AG41<>"",INDEX(TextNachTagImJahr,AD41-DATE(N($D$7),1,0),1)," ")} -> sehen | AG41: =IF(N(AD41)=0,"",QUOTIENT(OS+AD41,7)+1) -> 35 | AH41: =IF(N(AH40)=0,"",IF(MONTH(AH40+1)=AH$1,AH40+1,"")) -> 44834 | AI41: =TEXT(AH41,"TTT") -> Fr | AJ41: {=IF(AK41<>"",INDEX(TextNachTagImJahr,AH41-DATE(N($D$7),1,0),1)," ")} | AK41: =IF(N(AH41)=0,"",QUOTIENT(OS+AH41,7)+1) -> 39 | AL41: =IF(N(AL40)=0,"",IF(MONTH(AL40+1)=AL$1,AL40+1,"")) -> 44864 | AM41: =TEXT(AL41,"TTT") -> So | AN41: {=IF(AO41<>"",INDEX(TextNachTagImJahr,AL41-DATE(N($D$7),1,0),1)," ")} -> Dritter | AO41: =IF(N(AL41)=0,"",QUOTIENT(OS+AL41,7)+1) -> 44 | AP41: =IF(N(AP40)=0,"",IF(MONTH(AP40+1)=AP$1,AP40+1,"")) -> 44895 | AQ41: =TEXT(AP41,"TTT") -> Mi | AR41: {=IF(AS41<>"",INDEX(TextNachTagImJahr,AP41-DATE(N($D$7),1,0),1)," ")} | AS41: =IF(N(AP41)=0,"",QUOTIENT(OS+AP41,7)+1) -> 48 | AT41: =IF(N(AT40)=0,"",IF(MONTH(AT40+1)=AT$1,AT40+1,"")) -> 44925 | AU41: =TEXT(AT41,"TTT") -> Fr | AV41: {=IF(AW41<>"",INDEX(TextNachTagImJahr,AT41-DATE(N($D$7),1,0),1)," ")} | AW41: =IF(N(AT41)=0,"",QUOTIENT(OS+AT41,7)+1) -> 52
B42: =IF(N(B41)=0,"",IF(MONTH(B41+1)=B$1,B41+1,"")) -> 44592 | C42: =TEXT(B42,"TTT") -> Mo | D42: {=IF(E42<>"",INDEX(TextNachTagImJahr,B42-DATE(N($D$7),1,0),1)," ")} -> mal | E42: =IF(N(B42)=0,"",QUOTIENT(OS+B42,7)+1) -> 5 | F42: =IF(N(F41)=0,"",IF(MONTH(F41+1)=F$1,F41+1,"")) | H42: {=IF(I42<>"",INDEX(TextNachTagImJahr,F42-DATE(N($D$7),1,0),1)," ")} | I42: =IF(N(F42)=0,"",QUOTIENT(OS+F42,7)+1) | J42: =IF(N(J41)=0,"",IF(MONTH(J41+1)=J$1,J41+1,"")) -> 44651 | K42: =TEXT(J42,"TTT") -> Do | L42: {=IF(M42<>"",INDEX(TextNachTagImJahr,J42-DATE(N($D$7),1,0),1)," ")} | M42: =IF(N(J42)=0,"",QUOTIENT(OS+J42,7)+1) -> 13 | N42: =IF(N(N41)=0,"",IF(MONTH(N41+1)=N$1,N41+1,"")) | P42: {=IF(Q42<>"",INDEX(TextNachTagImJahr,N42-DATE(N($D$7),1,0),1)," ")} | Q42: =IF(N(N42)=0,"",QUOTIENT(OS+N42,7)+1) | R42: =IF(N(R41)=0,"",IF(MONTH(R41+1)=R$1,R41+1,"")) -> 44712 | S42: =TEXT(R42,"TTT") -> Di | T42: {=IF(U42<>"",INDEX(TextNachTagImJahr,R42-DATE(N($D$7),1,0),1)," ")} -> 881 4402 | U42: =IF(N(R42)=0,"",QUOTIENT(OS+R42,7)+1) -> 22 | V42: =IF(N(V41)=0,"",IF(MONTH(V41+1)=V$1,V41+1,"")) | X42: {=IF(Y42<>"",INDEX(TextNachTagImJahr,V42-DATE(N($D$7),1,0),1)," ")} | Y42: =IF(N(V42)=0,"",QUOTIENT(OS+V42,7)+1) | Z42: =IF(N(Z41)=0,"",IF(MONTH(Z41+1)=Z$1,Z41+1,"")) -> 44773 | AA42: =TEXT(Z42,"TTT") -> So | AB42: {=IF(AC42<>"",INDEX(TextNachTagImJahr,Z42-DATE(N($D$7),1,0),1)," ")} -> Matys | AC42: =IF(N(Z42)=0,"",QUOTIENT(OS+Z42,7)+1) -> 31 | AD42: =IF(N(AD41)=0,"",IF(MONTH(AD41+1)=AD$1,AD41+1,"")) -> 44804 | AE42: =TEXT(AD42,"TTT") -> Mi | AF42: {=IF(AG42<>"",INDEX(TextNachTagImJahr,AD42-DATE(N($D$7),1,0),1)," ")} | AG42: =IF(N(AD42)=0,"",QUOTIENT(OS+AD42,7)+1) -> 35 | AH42: =IF(N(AH41)=0,"",IF(MONTH(AH41+1)=AH$1,AH41+1,"")) | AI42: =TEXT(AH42,"TTT") | AJ42: {=IF(AK42<>"",INDEX(TextNachTagImJahr,AH42-DATE(N($D$7),1,0),1)," ")} | AK42: =IF(N(AH42)=0,"",QUOTIENT(OS+AH42,7)+1) | AL42: =IF(N(AL41)=0,"",IF(MONTH(AL41+1)=AL$1,AL41+1,"")) -> 44865 | AM42: =TEXT(AL42,"TTT") -> Mo | AN42: {=IF(AO42<>"",INDEX(TextNachTagImJahr,AL42-DATE(N($D$7),1,0),1)," ")} -> mal | AO42: =IF(N(AL42)=0,"",QUOTIENT(OS+AL42,7)+1) -> 44 | AP42: =IF(N(AP41)=0,"",IF(MONTH(AP41+1)=AP$1,AP41+1,"")) | AQ42: =TEXT(AP42,"TTT") | AR42: {=IF(AS42<>"",INDEX(TextNachTagImJahr,AP42-DATE(N($D$7),1,0),1)," ")} | AS42: =IF(N(AP42)=0,"",QUOTIENT(OS+AP42,7)+1) | AT42: =IF(N(AT41)=0,"",IF(MONTH(AT41+1)=AT$1,AT41+1,"")) -> 44926 | AU42: =TEXT(AT42,"TTT") -> Sa | AV42: {=IF(AW42<>"",INDEX(TextNachTagImJahr,AT42-DATE(N($D$7),1,0),1)," ")} -> Wohnung 3 | AW42: =IF(N(AT42)=0,"",QUOTIENT(OS+AT42,7)+1) -> 53
A43: Wer seinen Verpflichtungen nicht nachkommen kann, ist verpflichtet jemand Anderen für seine Aufgaben zu organisieren. Bei Nichteinhaltung können Regressansprüche entstehen! | B43: =Texte!A19 -> Wer seinen Verpflichtungen nicht nachkommen kann, ist verpflichtet jemand Anderen für seine Aufgaben zu organisieren. | N43: =Texte!A22 -> Bei Nichteinhaltung können Regressansprüche entstehen! | Z43: =B43 -> Wer seinen Verpflichtungen nicht nachkommen kann, ist verpflichtet jemand Anderen für seine Aufgaben zu organisieren. | AL43: =N43 -> Bei Nichteinhaltung können Regressansprüche entstehen!

Sheet Temp1
A1: KW | B1: Person | C1: =COUNT(J:J) -> 3 | D1: FarbeZwei | G1: Montag | J1: {=_xlfn._xlws.FILTER(Tabelle1[],Tabelle1[Objekt]=Objekt)} -> 1 | K1: WHG-01; Thomann; Gerhard | L1: 0 | M1: 1
A2: 1 | B2: {=INDEX(K:K,C2+1,1)} -> Ingolf; Matys; Tel.: 0761; 881 4402 | C2: =IFERROR(MATCH("x",L:L,0)-1,0) -> 1 | D2: {=INDEX(M:M,C2+1,1)} -> 2 | G2: Dienstag | J2: 1 | K2: Ingolf; Matys; Tel.: 0761; 881 4402 | L2: x | M2: 2
A3: =A2+1 -> 2 | B3: {=INDEX(K:K,C3+1,1)} -> Wohnung 3; Dritter; mal;sehen | C3: =MOD(C2+1,C$1) -> 2 | D3: {=INDEX(M:M,C3+1,1)} -> 3 | G3: Mittwoch | J3: 1 | K3: Wohnung 3; Dritter; mal;sehen | L3: 0 | M3: 3
A4: =A3+1 -> 3 | B4: {=INDEX(K:K,C4+1,1)} -> WHG-01; Thomann; Gerhard | C4: =MOD(C3+1,C$1) -> 0 | D4: {=INDEX(M:M,C4+1,1)} -> 1 | G4: Donnerstag
A5: =A4+1 -> 4 | B5: {=INDEX(K:K,C5+1,1)} -> Ingolf; Matys; Tel.: 0761; 881 4402 | C5: =MOD(C4+1,C$1) -> 1 | D5: {=INDEX(M:M,C5+1,1)} -> 2 | G5: Freitag
A6: =A5+1 -> 5 | B6: {=INDEX(K:K,C6+1,1)} -> Wohnung 3; Dritter; mal;sehen | C6: =MOD(C5+1,C$1) -> 2 | D6: {=INDEX(M:M,C6+1,1)} -> 3 | G6: Samstag
A7: =A6+1 -> 6 | B7: {=INDEX(K:K,C7+1,1)} -> WHG-01; Thomann; Gerhard | C7: =MOD(C6+1,C$1) -> 0 | D7: {=INDEX(M:M,C7+1,1)} -> 1 | G7: Sonntag
A8: =A7+1 -> 7 | B8: {=INDEX(K:K,C8+1,1)} -> Ingolf; Matys; Tel.: 0761; 881 4402 | C8: =MOD(C7+1,C$1) -> 1 | D8: {=INDEX(M:M,C8+1,1)} -> 2
A9: =A8+1 -> 8 | B9: {=INDEX(K:K,C9+1,1)} -> Wohnung 3; Dritter; mal;sehen | C9: =MOD(C8+1,C$1) -> 2 | D9: {=INDEX(M:M,C9+1,1)} -> 3
A10: =A9+1 -> 9 | B10: {=INDEX(K:K,C10+1,1)} -> WHG-01; Thomann; Gerhard | C10: =MOD(C9+1,C$1) -> 0 | D10: {=INDEX(M:M,C10+1,1)} -> 1
A11: =A10+1 -> 10 | B11: {=INDEX(K:K,C11+1,1)} -> Ingolf; Matys; Tel.: 0761; 881 4402 | C11: =MOD(C10+1,C$1) -> 1 | D11: {=INDEX(M:M,C11+1,1)} -> 2
A12: =A11+1 -> 11 | B12: {=INDEX(K:K,C12+1,1)} -> Wohnung 3; Dritter; mal;sehen | C12: =MOD(C11+1,C$1) -> 2 | D12: {=INDEX(M:M,C12+1,1)} -> 3
A13: =A12+1 -> 12 | B13: {=INDEX(K:K,C13+1,1)} -> WHG-01; Thomann; Gerhard | C13: =MOD(C12+1,C$1) -> 0 | D13: {=INDEX(M:M,C13+1,1)} -> 1
A14: =A13+1 -> 13 | B14: {=INDEX(K:K,C14+1,1)} -> Ingolf; Matys; Tel.: 0761; 881 4402 | C14: =MOD(C13+1,C$1) -> 1 | D14: {=INDEX(M:M,C14+1,1)} -> 2
A15: =A14+1 -> 14 | B15: {=INDEX(K:K,C15+1,1)} -> Wohnung 3; Dritter; mal;sehen | C15: =MOD(C14+1,C$1) -> 2 | D15: {=INDEX(M:M,C15+1,1)} -> 3
A16: =A15+1 -> 15 | B16: {=INDEX(K:K,C16+1,1)} -> WHG-01; Thomann; Gerhard | C16: =MOD(C15+1,C$1) -> 0 | D16: {=INDEX(M:M,C16+1,1)} -> 1
A17: =A16+1 -> 16 | B17: {=INDEX(K:K,C17+1,1)} -> Ingolf; Matys; Tel.: 0761; 881 4402 | C17: =MOD(C16+1,C$1) -> 1 | D17: {=INDEX(M:M,C17+1,1)} -> 2
A18: =A17+1 -> 17 | B18: {=INDEX(K:K,C18+1,1)} -> Wohnung 3; Dritter; mal;sehen | C18: =MOD(C17+1,C$1) -> 2 | D18: {=INDEX(M:M,C18+1,1)} -> 3
A19: =A18+1 -> 18 | B19: {=INDEX(K:K,C19+1,1)} -> WHG-01; Thomann; Gerhard | C19: =MOD(C18+1,C$1) -> 0 | D19: {=INDEX(M:M,C19+1,1)} -> 1
... A54: =A53+1 -> 53 | B54: {=INDEX(K:K,C54+1,1)} -> Wohnung 3; Dritter; mal;sehen | C54: =MOD(C53+1,C$1) -> 2 | D54: {=INDEX(M:M,C54+1,1)} -> 3

Sheet Temp2
B1: =DATE(N('Kalender-Kehrwoche'!D7),1,0) -> 44561 | J1: 1 | M1: 2 | P1: 3 | S1: 4 | V1: 5 | Y1: 6 | AB1: 7
A2: 1 | B2: =B1+1 -> 44562 | C2: =DAY(B2) -> 1 | D2: =(MONTH(B2)-1)*4+4 -> 4 | E2: {=INDEX(Kalender,C2,D2)} -> 1 | F2: =COUNTIF(E$2:E2,E2)-1 -> 0 | G2: {=IF(YEAR(B2)=N('Kalender-Kehrwoche'!$D$7),INDEX(Person,E2,1),"")&";;;;;;;"} -> Ingolf; Matys; Tel.: 0761; 881 4402;;;;;;; | H2: {=TRIM(IFERROR(INDEX(J2:AC2,1,F2*3+1),""))&" "} -> Ingolf | I2: =SEARCH(";",G2,1) -> 7 | J2: =LEFT(G2,I2-1) -> Ingolf | K2: =MID(G2,I2+1,1000) -> Matys; Tel.: 0761; 881 4402;;;;;;; | L2: =SEARCH(";",K2,1) -> 7 | M2: =LEFT(K2,L2-1) -> Matys | N2: =MID(K2,L2+1,1000) -> Tel.: 0761; 881 4402;;;;;;; | O2: =SEARCH(";",N2,1) -> 12 | P2: =LEFT(N2,O2-1) -> Tel.: 0761 | Q2: =MID(N2,O2+1,1000) -> 881 4402;;;;;;; | R2: =SEARCH(";",Q2,1) -> 10 | S2: =LEFT(Q2,R2-1) -> 881 4402 | T2: =MID(Q2,R2+1,1000) -> ;;;;;; | U2: =SEARCH(";",T2,1) -> 1 | V2: =LEFT(T2,U2-1) | W2: =MID(T2,U2+1,1000) -> ;;;;; | X2: =SEARCH(";",W2,1) -> 1 | Y2: =LEFT(W2,X2-1) | Z2: =MID(W2,X2+1,1000) -> ;;;; | AA2: =SEARCH(";",Z2,1) -> 1 | AB2: =LEFT(Z2,AA2-1) | AC2: =MID(Z2,AA2+1,1000) -> ;;;
A3: 2 | B3: =B2+1 -> 44563 | C3: =DAY(B3) -> 2 | D3: =(MONTH(B3)-1)*4+4 -> 4 | E3: {=INDEX(Kalender,C3,D3)} -> 1 | F3: =COUNTIF(E$2:E3,E3)-1 -> 1 | G3: {=IF(YEAR(B3)=N('Kalender-Kehrwoche'!$D$7),INDEX(Person,E3,1),"")&";;;;;;;"} -> Ingolf; Matys; Tel.: 0761; 881 4402;;;;;;; | H3: {=TRIM(IFERROR(INDEX(J3:AC3,1,F3*3+1),""))&" "} -> Matys | I3: =SEARCH(";",G3,1) -> 7 | J3: =LEFT(G3,I3-1) -> Ingolf | K3: =MID(G3,I3+1,1000) -> Matys; Tel.: 0761; 881 4402;;;;;;; | L3: =SEARCH(";",K3,1) -> 7 | M3: =LEFT(K3,L3-1) -> Matys | N3: =MID(K3,L3+1,1000) -> Tel.: 0761; 881 4402;;;;;;; | O3: =SEARCH(";",N3,1) -> 12 | P3: =LEFT(N3,O3-1) -> Tel.: 0761 | Q3: =MID(N3,O3+1,1000) -> 881 4402;;;;;;; | R3: =SEARCH(";",Q3,1) -> 10 | S3: =LEFT(Q3,R3-1) -> 881 4402 | T3: =MID(Q3,R3+1,1000) -> ;;;;;; | U3: =SEARCH(";",T3,1) -> 1 | V3: =LEFT(T3,U3-1) | W3: =MID(T3,U3+1,1000) -> ;;;;; | X3: =SEARCH(";",W3,1) -> 1 | Y3: =LEFT(W3,X3-1) | Z3: =MID(W3,X3+1,1000) -> ;;;; | AA3: =SEARCH(";",Z3,1) -> 1 | AB3: =LEFT(Z3,AA3-1) | AC3: =MID(Z3,AA3+1,1000) -> ;;;
A4: 3 | B4: =B3+1 -> 44564 | C4: =DAY(B4) -> 3 | D4: =(MONTH(B4)-1)*4+4 -> 4 | E4: {=INDEX(Kalender,C4,D4)} -> 1 | F4: =COUNTIF(E$2:E4,E4)-1 -> 2 | G4: {=IF(YEAR(B4)=N('Kalender-Kehrwoche'!$D$7),INDEX(Person,E4,1),"")&";;;;;;;"} -> Ingolf; Matys; Tel.: 0761; 881 4402;;;;;;; | H4: {=TRIM(IFERROR(INDEX(J4:AC4,1,F4*3+1),""))&" "} -> Tel.: 0761 | I4: =SEARCH(";",G4,1) -> 7 | J4: =LEFT(G4,I4-1) -> Ingolf | K4: =MID(G4,I4+1,1000) -> Matys; Tel.: 0761; 881 4402;;;;;;; | L4: =SEARCH(";",K4,1) -> 7 | M4: =LEFT(K4,L4-1) -> Matys | N4: =MID(K4,L4+1,1000) -> Tel.: 0761; 881 4402;;;;;;; | O4: =SEARCH(";",N4,1) -> 12 | P4: =LEFT(N4,O4-1) -> Tel.: 0761 | Q4: =MID(N4,O4+1,1000) -> 881 4402;;;;;;; | R4: =SEARCH(";",Q4,1) -> 10 | S4: =LEFT(Q4,R4-1) -> 881 4402 | T4: =MID(Q4,R4+1,1000) -> ;;;;;; | U4: =SEARCH(";",T4,1) -> 1 | V4: =LEFT(T4,U4-1) | W4: =MID(T4,U4+1,1000) -> ;;;;; | X4: =SEARCH(";",W4,1) -> 1 | Y4: =LEFT(W4,X4-1) | Z4: =MID(W4,X4+1,1000) -> ;;;; | AA4: =SEARCH(";",Z4,1) -> 1 | AB4: =LEFT(Z4,AA4-1) | AC4: =MID(Z4,AA4+1,1000) -> ;;;
A5: 4 | B5: =B4+1 -> 44565 | C5: =DAY(B5) -> 4 | D5: =(MONTH(B5)-1)*4+4 -> 4 | E5: {=INDEX(Kalender,C5,D5)} -> 1 | F5: =COUNTIF(E$2:E5,E5)-1 -> 3 | G5: {=IF(YEAR(B5)=N('Kalender-Kehrwoche'!$D$7),INDEX(Person,E5,1),"")&";;;;;;;"} -> Ingolf; Matys; Tel.: 0761; 881 4402;;;;;;; | H5: {=TRIM(IFERROR(INDEX(J5:AC5,1,F5*3+1),""))&" "} -> 881 4402 | I5: =SEARCH(";",G5,1) -> 7 | J5: =LEFT(G5,I5-1) -> Ingolf | K5: =MID(G5,I5+1,1000) -> Matys; Tel.: 0761; 881 4402;;;;;;; | L5: =SEARCH(";",K5,1) -> 7 | M5: =LEFT(K5,L5-1) -> Matys | N5: =MID(K5,L5+1,1000) -> Tel.: 0761; 881 4402;;;;;;; | O5: =SEARCH(";",N5,1) -> 12 | P5: =LEFT(N5,O5-1) -> Tel.: 0761 | Q5: =MID(N5,O5+1,1000) -> 881 4402;;;;;;; | R5: =SEARCH(";",Q5,1) -> 10 | S5: =LEFT(Q5,R5-1) -> 881 4402 | T5: =MID(Q5,R5+1,1000) -> ;;;;;; | U5: =SEARCH(";",T5,1) -> 1 | V5: =LEFT(T5,U5-1) | W5: =MID(T5,U5+1,1000) -> ;;;;; | X5: =SEARCH(";",W5,1) -> 1 | Y5: =LEFT(W5,X5-1) | Z5: =MID(W5,X5+1,1000) -> ;;;; | AA5: =SEARCH(";",Z5,1) -> 1 | AB5: =LEFT(Z5,AA5-1) | AC5: =MID(Z5,AA5+1,1000) -> ;;;
A6: 5 | B6: =B5+1 -> 44566 | C6: =DAY(B6) -> 5 | D6: =(MONTH(B6)-1)*4+4 -> 4 | E6: {=INDEX(Kalender,C6,D6)} -> 1 | F6: =COUNTIF(E$2:E6,E6)-1 -> 4 | G6: {=IF(YEAR(B6)=N('Kalender-Kehrwoche'!$D$7),INDEX(Person,E6,1),"")&";;;;;;;"} -> Ingolf; Matys; Tel.: 0761; 881 4402;;;;;;; | H6: {=TRIM(IFERROR(INDEX(J6:AC6,1,F6*3+1),""))&" "} | I6: =SEARCH(";",G6,1) -> 7 | J6: =LEFT(G6,I6-1) -> Ingolf | K6: =MID(G6,I6+1,1000) -> Matys; Tel.: 0761; 881 4402;;;;;;; | L6: =SEARCH(";",K6,1) -> 7 | M6: =LEFT(K6,L6-1) -> Matys | N6: =MID(K6,L6+1,1000) -> Tel.: 0761; 881 4402;;;;;;; | O6: =SEARCH(";",N6,1) -> 12 | P6: =LEFT(N6,O6-1) -> Tel.: 0761 | Q6: =MID(N6,O6+1,1000) -> 881 4402;;;;;;; | R6: =SEARCH(";",Q6,1) -> 10 | S6: =LEFT(Q6,R6-1) -> 881 4402 | T6: =MID(Q6,R6+1,1000) -> ;;;;;; | U6: =SEARCH(";",T6,1) -> 1 | V6: =LEFT(T6,U6-1) | W6: =MID(T6,U6+1,1000) -> ;;;;; | X6: =SEARCH(";",W6,1) -> 1 | Y6: =LEFT(W6,X6-1) | Z6: =MID(W6,X6+1,1000) -> ;;;; | AA6: =SEARCH(";",Z6,1) -> 1 | AB6: =LEFT(Z6,AA6-1) | AC6: =MID(Z6,AA6+1,1000) -> ;;;
A7: 6 | B7: =B6+1 -> 44567 | C7: =DAY(B7) -> 6 | D7: =(MONTH(B7)-1)*4+4 -> 4 | E7: {=INDEX(Kalender,C7,D7)} -> 1 | F7: =COUNTIF(E$2:E7,E7)-1 -> 5 | G7: {=IF(YEAR(B7)=N('Kalender-Kehrwoche'!$D$7),INDEX(Person,E7,1),"")&";;;;;;;"} -> Ingolf; Matys; Tel.: 0761; 881 4402;;;;;;; | H7: {=TRIM(IFERROR(INDEX(J7:AC7,1,F7*3+1),""))&" "} | I7: =SEARCH(";",G7,1) -> 7 | J7: =LEFT(G7,I7-1) -> Ingolf | K7: =MID(G7,I7+1,1000) -> Matys; Tel.: 0761; 881 4402;;;;;;; | L7: =SEARCH(";",K7,1) -> 7 | M7: =LEFT(K7,L7-1) -> Matys | N7: =MID(K7,L7+1,1000) -> Tel.: 0761; 881 4402;;;;;;; | O7: =SEARCH(";",N7,1) -> 12 | P7: =LEFT(N7,O7-1) -> Tel.: 0761 | Q7: =MID(N7,O7+1,1000) -> 881 4402;;;;;;; | R7: =SEARCH(";",Q7,1) -> 10 | S7: =LEFT(Q7,R7-1) -> 881 4402 | T7: =MID(Q7,R7+1,1000) -> ;;;;;; | U7: =SEARCH(";",T7,1) -> 1 | V7: =LEFT(T7,U7-1) | W7: =MID(T7,U7+1,1000) -> ;;;;; | X7: =SEARCH(";",W7,1) -> 1 | Y7: =LEFT(W7,X7-1) | Z7: =MID(W7,X7+1,1000) -> ;;;; | AA7: =SEARCH(";",Z7,1) -> 1 | AB7: =LEFT(Z7,AA7-1) | AC7: =MID(Z7,AA7+1,1000) -> ;;;
A8: 7 | B8: =B7+1 -> 44568 | C8: =DAY(B8) -> 7 | D8: =(MONTH(B8)-1)*4+4 -> 4 | E8: {=INDEX(Kalender,C8,D8)} -> 1 | F8: =COUNTIF(E$2:E8,E8)-1 -> 6 | G8: {=IF(YEAR(B8)=N('Kalender-Kehrwoche'!$D$7),INDEX(Person,E8,1),"")&";;;;;;;"} -> Ingolf; Matys; Tel.: 0761; 881 4402;;;;;;; | H8: {=TRIM(IFERROR(INDEX(J8:AC8,1,F8*3+1),""))&" "} | I8: =SEARCH(";",G8,1) -> 7 | J8: =LEFT(G8,I8-1) -> Ingolf | K8: =MID(G8,I8+1,1000) -> Matys; Tel.: 0761; 881 4402;;;;;;; | L8: =SEARCH(";",K8,1) -> 7 | M8: =LEFT(K8,L8-1) -> Matys | N8: =MID(K8,L8+1,1000) -> Tel.: 0761; 881 4402;;;;;;; | O8: =SEARCH(";",N8,1) -> 12 | P8: =LEFT(N8,O8-1) -> Tel.: 0761 | Q8: =MID(N8,O8+1,1000) -> 881 4402;;;;;;; | R8: =SEARCH(";",Q8,1) -> 10 | S8: =LEFT(Q8,R8-1) -> 881 4402 | T8: =MID(Q8,R8+1,1000) -> ;;;;;; | U8: =SEARCH(";",T8,1) -> 1 | V8: =LEFT(T8,U8-1) | W8: =MID(T8,U8+1,1000) -> ;;;;; | X8: =SEARCH(";",W8,1) -> 1 | Y8: =LEFT(W8,X8-1) | Z8: =MID(W8,X8+1,1000) -> ;;;; | AA8: =SEARCH(";",Z8,1) -> 1 | AB8: =LEFT(Z8,AA8-1) | AC8: =MID(Z8,AA8+1,1000) -> ;;;
A9: 8 | B9: =B8+1 -> 44569 | C9: =DAY(B9) -> 8 | D9: =(MONTH(B9)-1)*4+4 -> 4 | E9: {=INDEX(Kalender,C9,D9)} -> 2 | F9: =COUNTIF(E$2:E9,E9)-1 -> 0 | G9: {=IF(YEAR(B9)=N('Kalender-Kehrwoche'!$D$7),INDEX(Person,E9,1),"")&";;;;;;;"} -> Wohnung 3; Dritter; mal;sehen;;;;;;; | H9: {=TRIM(IFERROR(INDEX(J9:AC9,1,F9*3+1),""))&" "} -> Wohnung 3 | I9: =SEARCH(";",G9,1) -> 10 | J9: =LEFT(G9,I9-1) -> Wohnung 3 | K9: =MID(G9,I9+1,1000) -> Dritter; mal;sehen;;;;;;; | L9: =SEARCH(";",K9,1) -> 9 | M9: =LEFT(K9,L9-1) -> Dritter | N9: =MID(K9,L9+1,1000) -> mal;sehen;;;;;;; | O9: =SEARCH(";",N9,1) -> 5 | P9: =LEFT(N9,O9-1) -> mal | Q9: =MID(N9,O9+1,1000) -> sehen;;;;;;; | R9: =SEARCH(";",Q9,1) -> 6 | S9: =LEFT(Q9,R9-1) -> sehen | T9: =MID(Q9,R9+1,1000) -> ;;;;;; | U9: =SEARCH(";",T9,1) -> 1 | V9: =LEFT(T9,U9-1) | W9: =MID(T9,U9+1,1000) -> ;;;;; | X9: =SEARCH(";",W9,1) -> 1 | Y9: =LEFT(W9,X9-1) | Z9: =MID(W9,X9+1,1000) -> ;;;; | AA9: =SEARCH(";",Z9,1) -> 1 | AB9: =LEFT(Z9,AA9-1) | AC9: =MID(Z9,AA9+1,1000) -> ;;;
A10: 9 | B10: =B9+1 -> 44570 | C10: =DAY(B10) -> 9 | D10: =(MONTH(B10)-1)*4+4 -> 4 | E10: {=INDEX(Kalender,C10,D10)} -> 2 | F10: =COUNTIF(E$2:E10,E10)-1 -> 1 | G10: {=IF(YEAR(B10)=N('Kalender-Kehrwoche'!$D$7),INDEX(Person,E10,1),"")&";;;;;;;"} -> Wohnung 3; Dritter; mal;sehen;;;;;;; | H10: {=TRIM(IFERROR(INDEX(J10:AC10,1,F10*3+1),""))&" "} -> Dritter | I10: =SEARCH(";",G10,1) -> 10 | J10: =LEFT(G10,I10-1) -> Wohnung 3 | K10: =MID(G10,I10+1,1000) -> Dritter; mal;sehen;;;;;;; | L10: =SEARCH(";",K10,1) -> 9 | M10: =LEFT(K10,L10-1) -> Dritter | N10: =MID(K10,L10+1,1000) -> mal;sehen;;;;;;; | O10: =SEARCH(";",N10,1) -> 5 | P10: =LEFT(N10,O10-1) -> mal | Q10: =MID(N10,O10+1,1000) -> sehen;;;;;;; | R10: =SEARCH(";",Q10,1) -> 6 | S10: =LEFT(Q10,R10-1) -> sehen | T10: =MID(Q10,R10+1,1000) -> ;;;;;; | U10: =SEARCH(";",T10,1) -> 1 | V10: =LEFT(T10,U10-1) | W10: =MID(T10,U10+1,1000) -> ;;;;; | X10: =SEARCH(";",W10,1) -> 1 | Y10: =LEFT(W10,X10-1) | Z10: =MID(W10,X10+1,1000) -> ;;;; | AA10: =SEARCH(";",Z10,1) -> 1 | AB10: =LEFT(Z10,AA10-1) | AC10: =MID(Z10,AA10+1,1000) -> ;;;
A11: 10 | B11: =B10+1 -> 44571 | C11: =DAY(B11) -> 10 | D11: =(MONTH(B11)-1)*4+4 -> 4 | E11: {=INDEX(Kalender,C11,D11)} -> 2 | F11: =COUNTIF(E$2:E11,E11)-1 -> 2 | G11: {=IF(YEAR(B11)=N('Kalender-Kehrwoche'!$D$7),INDEX(Person,E11,1),"")&";;;;;;;"} -> Wohnung 3; Dritter; mal;sehen;;;;;;; | H11: {=TRIM(IFERROR(INDEX(J11:AC11,1,F11*3+1),""))&" "} -> mal | I11: =SEARCH(";",G11,1) -> 10 | J11: =LEFT(G11,I11-1) -> Wohnung 3 | K11: =MID(G11,I11+1,1000) -> Dritter; mal;sehen;;;;;;; | L11: =SEARCH(";",K11,1) -> 9 | M11: =LEFT(K11,L11-1) -> Dritter | N11: =MID(K11,L11+1,1000) -> mal;sehen;;;;;;; | O11: =SEARCH(";",N11,1) -> 5 | P11: =LEFT(N11,O11-1) -> mal | Q11: =MID(N11,O11+1,1000) -> sehen;;;;;;; | R11: =SEARCH(";",Q11,1) -> 6 | S11: =LEFT(Q11,R11-1) -> sehen | T11: =MID(Q11,R11+1,1000) -> ;;;;;; | U11: =SEARCH(";",T11,1) -> 1 | V11: =LEFT(T11,U11-1) | W11: =MID(T11,U11+1,1000) -> ;;;;; | X11: =SEARCH(";",W11,1) -> 1 | Y11: =LEFT(W11,X11-1) | Z11: =MID(W11,X11+1,1000) -> ;;;; | AA11: =SEARCH(";",Z11,1) -> 1 | AB11: =LEFT(Z11,AA11-1) | AC11: =MID(Z11,AA11+1,1000) -> ;;;
A12: 11 | B12: =B11+1 -> 44572 | C12: =DAY(B12) -> 11 | D12: =(MONTH(B12)-1)*4+4 -> 4 | E12: {=INDEX(Kalender,C12,D12)} -> 2 | F12: =COUNTIF(E$2:E12,E12)-1 -> 3 | G12: {=IF(YEAR(B12)=N('Kalender-Kehrwoche'!$D$7),INDEX(Person,E12,1),"")&";;;;;;;"} -> Wohnung 3; Dritter; mal;sehen;;;;;;; | H12: {=TRIM(IFERROR(INDEX(J12:AC12,1,F12*3+1),""))&" "} -> sehen | I12: =SEARCH(";",G12,1) -> 10 | J12: =LEFT(G12,I12-1) -> Wohnung 3 | K12: =MID(G12,I12+1,1000) -> Dritter; mal;sehen;;;;;;; | L12: =SEARCH(";",K12,1) -> 9 | M12: =LEFT(K12,L12-1) -> Dritter | N12: =MID(K12,L12+1,1000) -> mal;sehen;;;;;;; | O12: =SEARCH(";",N12,1) -> 5 | P12: =LEFT(N12,O12-1) -> mal | Q12: =MID(N12,O12+1,1000) -> sehen;;;;;;; | R12: =SEARCH(";",Q12,1) -> 6 | S12: =LEFT(Q12,R12-1) -> sehen | T12: =MID(Q12,R12+1,1000) -> ;;;;;; | U12: =SEARCH(";",T12,1) -> 1 | V12: =LEFT(T12,U12-1) | W12: =MID(T12,U12+1,1000) -> ;;;;; | X12: =SEARCH(";",W12,1) -> 1 | Y12: =LEFT(W12,X12-1) | Z12: =MID(W12,X12+1,1000) -> ;;;; | AA12: =SEARCH(";",Z12,1) -> 1 | AB12: =LEFT(Z12,AA12-1) | AC12: =MID(Z12,AA12+1,1000) -> ;;;
A13: 12 | B13: =B12+1 -> 44573 | C13: =DAY(B13) -> 12 | D13: =(MONTH(B13)-1)*4+4 -> 4 | E13: {=INDEX(Kalender,C13,D13)} -> 2 | F13: =COUNTIF(E$2:E13,E13)-1 -> 4 | G13: {=IF(YEAR(B13)=N('Kalender-Kehrwoche'!$D$7),INDEX(Person,E13,1),"")&";;;;;;;"} -> Wohnung 3; Dritter; mal;sehen;;;;;;; | H13: {=TRIM(IFERROR(INDEX(J13:AC13,1,F13*3+1),""))&" "} | I13: =SEARCH(";",G13,1) -> 10 | J13: =LEFT(G13,I13-1) -> Wohnung 3 | K13: =MID(G13,I13+1,1000) -> Dritter; mal;sehen;;;;;;; | L13: =SEARCH(";",K13,1) -> 9 | M13: =LEFT(K13,L13-1) -> Dritter | N13: =MID(K13,L13+1,1000) -> mal;sehen;;;;;;; | O13: =SEARCH(";",N13,1) -> 5 | P13: =LEFT(N13,O13-1) -> mal | Q13: =MID(N13,O13+1,1000) -> sehen;;;;;;; | R13: =SEARCH(";",Q13,1) -> 6 | S13: =LEFT(Q13,R13-1) -> sehen | T13: =MID(Q13,R13+1,1000) -> ;;;;;; | U13: =SEARCH(";",T13,1) -> 1 | V13: =LEFT(T13,U13-1) | W13: =MID(T13,U13+1,1000) -> ;;;;; | X13: =SEARCH(";",W13,1) -> 1 | Y13: =LEFT(W13,X13-1) | Z13: =MID(W13,X13+1,1000) -> ;;;; | AA13: =SEARCH(";",Z13,1) -> 1 | AB13: =LEFT(Z13,AA13-1) | AC13: =MID(Z13,AA13+1,1000) -> ;;;
... A367: 366 | B367: =B366+1 -> 44927 | C367: =DAY(B367) -> 1 | D367: =(MONTH(B367)-1)*4+4 -> 4 | E367: {=INDEX(Kalender,C367,D367)} -> 1 | F367: =COUNTIF(E$2:E367,E367)-1 -> 7 | G367: {=IF(YEAR(B367)=N('Kalender-Kehrwoche'!$D$7),INDEX(Person,E367,1),"")&";;;;;;;"} -> ;;;;;;; | H367: {=TRIM(IFERROR(INDEX(J367:AC367,1,F367*3+1),""))&" "} | I367: =SEARCH(";",G367,1) -> 1 | J367: =LEFT(G367,I367-1) | K367: =MID(G367,I367+1,1000) -> ;;;;;; | L367: =SEARCH(";",K367,1) -> 1 | M367: =LEFT(K367,L367-1) | N367: =MID(K367,L367+1,1000) -> ;;;;; | O367: =SEARCH(";",N367,1) -> 1 | P367: =LEFT(N367,O367-1) | Q367: =MID(N367,O367+1,1000) -> ;;;; | R367: =SEARCH(";",Q367,1) -> 1 | S367: =LEFT(Q367,R367-1) | T367: =MID(Q367,R367+1,1000) -> ;;; | U367: =SEARCH(";",T367,1) -> 1 | V367: =LEFT(T367,U367-1) | W367: =MID(T367,U367+1,1000) -> ;; | X367: =SEARCH(";",W367,1) -> 1 | Y367: =LEFT(W367,X367-1) | Z367: =MID(W367,X367+1,1000) -> ; | AA367: =SEARCH(";",Z367,1) -> 1 | AB367: =LEFT(Z367,AA367-1) | AC367: =MID(Z367,AA367+1,1000)

Sheet Temp3
A1: =DATE(JahrAktuell,1,1) -> 44562 | C1: Tag | D1: Monat | E1: Offset OS | F1: Offset 4A | G1: Datum | H1: Bezeichnung
A2: ='Kalender-Kehrwoche'!D7 -> 2022 | C2: 1 | D2: 1 | G2: =IF(ISBLANK(Tabelle13[[#This Row],[Offset 4A]]),IF(ISBLANK(Tabelle13[[#This Row],[Offset OS]]),DATE(JahrAktuell,Tabelle13[[#This Row],[Monat]],Tabelle13[[#This Row],[Tag]]),Ostersonntag+Tabelle13[[#This Row],[Offset OS]]),ErsterAdvent+Tabelle13[[#This Row],[Offset 4A]]) -> 44562 | H2: Neujahr
A3: =DATE(JahrAktuell,3,28)+MOD(24-MOD(JahrAktuell,19)*10.63,29)-MOD(TRUNC(JahrAktuell*5/4)+MOD(24-MOD(JahrAktuell,19)*10.63,29)+1,7) -> 44668 | C3: 6 | D3: 1 | G3: =IF(ISBLANK(Tabelle13[[#This Row],[Offset 4A]]),IF(ISBLANK(Tabelle13[[#This Row],[Offset OS]]),DATE(JahrAktuell,Tabelle13[[#This Row],[Monat]],Tabelle13[[#This Row],[Tag]]),Ostersonntag+Tabelle13[[#This Row],[Offset OS]]),ErsterAdvent+Tabelle13[[#This Row],[Offset 4A]]) -> 44567 | H3: Heilige Drei Könige
A4: =DATE(JahrAktuell+1,1,1)-WEEKDAY(DATE(JahrAktuell+1,1,1),2)-28 -> 44892 | C4: 8 | D4: 3 | G4: =IF(ISBLANK(Tabelle13[[#This Row],[Offset 4A]]),IF(ISBLANK(Tabelle13[[#This Row],[Offset OS]]),DATE(JahrAktuell,Tabelle13[[#This Row],[Monat]],Tabelle13[[#This Row],[Tag]]),Ostersonntag+Tabelle13[[#This Row],[Offset OS]]),ErsterAdvent+Tabelle13[[#This Row],[Offset 4A]]) -> 44628 | H4: Internationaler Frauentag
E5: -2 | G5: =IF(ISBLANK(Tabelle13[[#This Row],[Offset 4A]]),IF(ISBLANK(Tabelle13[[#This Row],[Offset OS]]),DATE(JahrAktuell,Tabelle13[[#This Row],[Monat]],Tabelle13[[#This Row],[Tag]]),Ostersonntag+Tabelle13[[#This Row],[Offset OS]]),ErsterAdvent+Tabelle13[[#This Row],[Offset 4A]]) -> 44666 | H5: Karfreitag
E6: 0 | G6: =IF(ISBLANK(Tabelle13[[#This Row],[Offset 4A]]),IF(ISBLANK(Tabelle13[[#This Row],[Offset OS]]),DATE(JahrAktuell,Tabelle13[[#This Row],[Monat]],Tabelle13[[#This Row],[Tag]]),Ostersonntag+Tabelle13[[#This Row],[Offset OS]]),ErsterAdvent+Tabelle13[[#This Row],[Offset 4A]]) -> 44668 | H6: Ostersonntag
E7: 1 | G7: =IF(ISBLANK(Tabelle13[[#This Row],[Offset 4A]]),IF(ISBLANK(Tabelle13[[#This Row],[Offset OS]]),DATE(JahrAktuell,Tabelle13[[#This Row],[Monat]],Tabelle13[[#This Row],[Tag]]),Ostersonntag+Tabelle13[[#This Row],[Offset OS]]),ErsterAdvent+Tabelle13[[#This Row],[Offset 4A]]) -> 44669 | H7: Ostermontag
C8: 1 | D8: 5 | G8: =IF(ISBLANK(Tabelle13[[#This Row],[Offset 4A]]),IF(ISBLANK(Tabelle13[[#This Row],[Offset OS]]),DATE(JahrAktuell,Tabelle13[[#This Row],[Monat]],Tabelle13[[#This Row],[Tag]]),Ostersonntag+Tabelle13[[#This Row],[Offset OS]]),ErsterAdvent+Tabelle13[[#This Row],[Offset 4A]]) -> 44682 | H8: Tag der Arbeit
E9: 39 | G9: =IF(ISBLANK(Tabelle13[[#This Row],[Offset 4A]]),IF(ISBLANK(Tabelle13[[#This Row],[Offset OS]]),DATE(JahrAktuell,Tabelle13[[#This Row],[Monat]],Tabelle13[[#This Row],[Tag]]),Ostersonntag+Tabelle13[[#This Row],[Offset OS]]),ErsterAdvent+Tabelle13[[#This Row],[Offset 4A]]) -> 44707 | H9: Christi Himmelfahrt
E10: 49 | G10: =IF(ISBLANK(Tabelle13[[#This Row],[Offset 4A]]),IF(ISBLANK(Tabelle13[[#This Row],[Offset OS]]),DATE(JahrAktuell,Tabelle13[[#This Row],[Monat]],Tabelle13[[#This Row],[Tag]]),Ostersonntag+Tabelle13[[#This Row],[Offset OS]]),ErsterAdvent+Tabelle13[[#This Row],[Offset 4A]]) -> 44717 | H10: Pfingstsonntag
E11: 50 | G11: =IF(ISBLANK(Tabelle13[[#This Row],[Offset 4A]]),IF(ISBLANK(Tabelle13[[#This Row],[Offset OS]]),DATE(JahrAktuell,Tabelle13[[#This Row],[Monat]],Tabelle13[[#This Row],[Tag]]),Ostersonntag+Tabelle13[[#This Row],[Offset OS]]),ErsterAdvent+Tabelle13[[#This Row],[Offset 4A]]) -> 44718 | H11: Pfingstmontag
E12: 60 | G12: =IF(ISBLANK(Tabelle13[[#This Row],[Offset 4A]]),IF(ISBLANK(Tabelle13[[#This Row],[Offset OS]]),DATE(JahrAktuell,Tabelle13[[#This Row],[Monat]],Tabelle13[[#This Row],[Tag]]),Ostersonntag+Tabelle13[[#This Row],[Offset OS]]),ErsterAdvent+Tabelle13[[#This Row],[Offset 4A]]) -> 44728 | H12: Fronleichnam
C13: 8 | D13: 8 | G13: =IF(ISBLANK(Tabelle13[[#This Row],[Offset 4A]]),IF(ISBLANK(Tabelle13[[#This Row],[Offset OS]]),DATE(JahrAktuell,Tabelle13[[#This Row],[Monat]],Tabelle13[[#This Row],[Tag]]),Ostersonntag+Tabelle13[[#This Row],[Offset OS]]),ErsterAdvent+Tabelle13[[#This Row],[Offset 4A]]) -> 44781 | H13: Augsburger Friedensfest
C14: 15 | D14: 8 | G14: =IF(ISBLANK(Tabelle13[[#This Row],[Offset 4A]]),IF(ISBLANK(Tabelle13[[#This Row],[Offset OS]]),DATE(JahrAktuell,Tabelle13[[#This Row],[Monat]],Tabelle13[[#This Row],[Tag]]),Ostersonntag+Tabelle13[[#This Row],[Offset OS]]),ErsterAdvent+Tabelle13[[#This Row],[Offset 4A]]) -> 44788 | H14: Mariä Himmelfahrt
C15: 20 | D15: 9 | G15: =IF(ISBLANK(Tabelle13[[#This Row],[Offset 4A]]),IF(ISBLANK(Tabelle13[[#This Row],[Offset OS]]),DATE(JahrAktuell,Tabelle13[[#This Row],[Monat]],Tabelle13[[#This Row],[Tag]]),Ostersonntag+Tabelle13[[#This Row],[Offset OS]]),ErsterAdvent+Tabelle13[[#This Row],[Offset 4A]]) -> 44824 | H15: Weltkindertag
C16: 3 | D16: 10 | G16: =IF(ISBLANK(Tabelle13[[#This Row],[Offset 4A]]),IF(ISBLANK(Tabelle13[[#This Row],[Offset OS]]),DATE(JahrAktuell,Tabelle13[[#This Row],[Monat]],Tabelle13[[#This Row],[Tag]]),Ostersonntag+Tabelle13[[#This Row],[Offset OS]]),ErsterAdvent+Tabelle13[[#This Row],[Offset 4A]]) -> 44837 | H16: Tag der Deutschen Einheit
C17: 31 | D17: 10 | G17: =IF(ISBLANK(Tabelle13[[#This Row],[Offset 4A]]),IF(ISBLANK(Tabelle13[[#This Row],[Offset OS]]),DATE(JahrAktuell,Tabelle13[[#This Row],[Monat]],Tabelle13[[#This Row],[Tag]]),Ostersonntag+Tabelle13[[#This Row],[Offset OS]]),ErsterAdvent+Tabelle13[[#This Row],[Offset 4A]]) -> 44865 | H17: Reformationstag
C18: 1 | D18: 11 | G18: =IF(ISBLANK(Tabelle13[[#This Row],[Offset 4A]]),IF(ISBLANK(Tabelle13[[#This Row],[Offset OS]]),DATE(JahrAktuell,Tabelle13[[#This Row],[Monat]],Tabelle13[[#This Row],[Tag]]),Ostersonntag+Tabelle13[[#This Row],[Offset OS]]),ErsterAdvent+Tabelle13[[#This Row],[Offset 4A]]) -> 44866 | H18: Allerheiligen
F19: -11 | G19: =IF(ISBLANK(Tabelle13[[#This Row],[Offset 4A]]),IF(ISBLANK(Tabelle13[[#This Row],[Offset OS]]),DATE(JahrAktuell,Tabelle13[[#This Row],[Monat]],Tabelle13[[#This Row],[Tag]]),Ostersonntag+Tabelle13[[#This Row],[Offset OS]]),ErsterAdvent+Tabelle13[[#This Row],[Offset 4A]]) -> 44881 | H19: Buß- und Bettag
C20: 25 | D20: 12 | G20: =IF(ISBLANK(Tabelle13[[#This Row],[Offset 4A]]),IF(ISBLANK(Tabelle13[[#This Row],[Offset OS]]),DATE(JahrAktuell,Tabelle13[[#This Row],[Monat]],Tabelle13[[#This Row],[Tag]]),Ostersonntag+Tabelle13[[#This Row],[Offset OS]]),ErsterAdvent+Tabelle13[[#This Row],[Offset 4A]]) -> 44920 | H20: 1. Weihnachtstag
C21: 26 | D21: 12 | G21: =IF(ISBLANK(Tabelle13[[#This Row],[Offset 4A]]),IF(ISBLANK(Tabelle13[[#This Row],[Offset OS]]),DATE(JahrAktuell,Tabelle13[[#This Row],[Monat]],Tabelle13[[#This Row],[Tag]]),Ostersonntag+Tabelle13[[#This Row],[Offset OS]]),ErsterAdvent+Tabelle13[[#This Row],[Offset 4A]]) -> 44921 | H21: 2. Weihnachtstag
